BEGIN:VCALENDAR
VERSION:2.0
PRODID:-//Live in Los Barriles - ECPv6.15.3//NONSGML v1.0//EN
CALSCALE:GREGORIAN
METHOD:PUBLISH
X-ORIGINAL-URL:https://liveinlosbarriles.com
X-WR-CALDESC:Events for Live in Los Barriles
REFRESH-INTERVAL;VALUE=DURATION:PT1H
X-Robots-Tag:noindex
X-PUBLISHED-TTL:PT1H
BEGIN:VTIMEZONE
TZID:America/Chicago
BEGIN:DAYLIGHT
TZOFFSETFROM:-0600
TZOFFSETTO:-0500
TZNAME:CDT
DTSTART:20230312T080000
END:DAYLIGHT
BEGIN:STANDARD
TZOFFSETFROM:-0500
TZOFFSETTO:-0600
TZNAME:CST
DTSTART:20231105T070000
END:STANDARD
END:VTIMEZONE
BEGIN:VEVENT
DTSTART;TZID=America/Chicago:20230729T090000
DTEND;TZID=America/Chicago:20230729T140000
DTSTAMP:20260423T181434
CREATED:20221215T235858Z
LAST-MODIFIED:20221215T235858Z
UID:3094-1690621200-1690639200@liveinlosbarriles.com
SUMMARY:Farmer's Market @ Laguna Park
DESCRIPTION:Great selection of local foods\, produce\, drinks\, clothing\, jewelry and much more! \nCome support your community!
URL:https://liveinlosbarriles.com/event/farmers-market-laguna-park-2023-07-29/
LOCATION:Farmer’s Market
CATEGORIES:Community Event,Dining,Live Music,Shopping/Sale
ATTACH;FMTTYPE=image/jpeg:https://liveinlosbarriles.com/wp-content/uploads/2022/12/Farmers-Market.jpeg
END:VEVENT
BEGIN:VEVENT
DTSTART;TZID=America/Chicago:20230728T180000
DTEND;TZID=America/Chicago:20230728T210000
DTSTAMP:20260423T181434
CREATED:20221215T214523Z
LAST-MODIFIED:20221215T214523Z
UID:3059-1690567200-1690578000@liveinlosbarriles.com
SUMMARY:Live Music with Gatos Pardos
DESCRIPTION:Let’s Rock Every Friday! \nMusic from Led Zeppelin\, The Beatles\, CCR\, Deep Purple\, The Doors\, ZZ Top\, AC/DC and more!
URL:https://liveinlosbarriles.com/event/live-music-with-gatos-pardos-2023-07-28/
LOCATION:La Playa Restaurant & Bar
CATEGORIES:Live Music
ATTACH;FMTTYPE=image/jpeg:https://liveinlosbarriles.com/wp-content/uploads/2022/12/Gatos-Pardos-La-PLaya.jpeg
END:VEVENT
BEGIN:VEVENT
DTSTART;TZID=America/Chicago:20230727T183000
DTEND;TZID=America/Chicago:20230727T210000
DTSTAMP:20260423T181434
CREATED:20221215T210059Z
LAST-MODIFIED:20221215T210059Z
UID:2943-1690482600-1690491600@liveinlosbarriles.com
SUMMARY:Local Musicians Jam!
DESCRIPTION:Come support your talented friends & neighbors! Music starts at 6:30pm.
URL:https://liveinlosbarriles.com/event/local-musicians-jam-2023-07-27/
LOCATION:Sweetpea’s Tiki Bar & Grill
CATEGORIES:Live Music
ATTACH;FMTTYPE=image/jpeg:https://liveinlosbarriles.com/wp-content/uploads/2018/05/image-2-copyright.jpg
END:VEVENT
BEGIN:VEVENT
DTSTART;TZID=America/Chicago:20230722T090000
DTEND;TZID=America/Chicago:20230722T140000
DTSTAMP:20260423T181434
CREATED:20221215T235858Z
LAST-MODIFIED:20221215T235858Z
UID:3093-1690016400-1690034400@liveinlosbarriles.com
SUMMARY:Farmer's Market @ Laguna Park
DESCRIPTION:Great selection of local foods\, produce\, drinks\, clothing\, jewelry and much more! \nCome support your community!
URL:https://liveinlosbarriles.com/event/farmers-market-laguna-park-2023-07-22/
LOCATION:Farmer’s Market
CATEGORIES:Community Event,Dining,Live Music,Shopping/Sale
ATTACH;FMTTYPE=image/jpeg:https://liveinlosbarriles.com/wp-content/uploads/2022/12/Farmers-Market.jpeg
END:VEVENT
BEGIN:VEVENT
DTSTART;TZID=America/Chicago:20230721T180000
DTEND;TZID=America/Chicago:20230721T210000
DTSTAMP:20260423T181434
CREATED:20221215T214523Z
LAST-MODIFIED:20221215T214523Z
UID:3058-1689962400-1689973200@liveinlosbarriles.com
SUMMARY:Live Music with Gatos Pardos
DESCRIPTION:Let’s Rock Every Friday! \nMusic from Led Zeppelin\, The Beatles\, CCR\, Deep Purple\, The Doors\, ZZ Top\, AC/DC and more!
URL:https://liveinlosbarriles.com/event/live-music-with-gatos-pardos-2023-07-21/
LOCATION:La Playa Restaurant & Bar
CATEGORIES:Live Music
ATTACH;FMTTYPE=image/jpeg:https://liveinlosbarriles.com/wp-content/uploads/2022/12/Gatos-Pardos-La-PLaya.jpeg
END:VEVENT
BEGIN:VEVENT
DTSTART;TZID=America/Chicago:20230720T183000
DTEND;TZID=America/Chicago:20230720T210000
DTSTAMP:20260423T181434
CREATED:20221215T210059Z
LAST-MODIFIED:20221215T210059Z
UID:2942-1689877800-1689886800@liveinlosbarriles.com
SUMMARY:Local Musicians Jam!
DESCRIPTION:Come support your talented friends & neighbors! Music starts at 6:30pm.
URL:https://liveinlosbarriles.com/event/local-musicians-jam-2023-07-20/
LOCATION:Sweetpea’s Tiki Bar & Grill
CATEGORIES:Live Music
ATTACH;FMTTYPE=image/jpeg:https://liveinlosbarriles.com/wp-content/uploads/2018/05/image-2-copyright.jpg
END:VEVENT
BEGIN:VEVENT
DTSTART;TZID=America/Chicago:20230715T090000
DTEND;TZID=America/Chicago:20230715T140000
DTSTAMP:20260423T181434
CREATED:20221215T235858Z
LAST-MODIFIED:20221215T235858Z
UID:3092-1689411600-1689429600@liveinlosbarriles.com
SUMMARY:Farmer's Market @ Laguna Park
DESCRIPTION:Great selection of local foods\, produce\, drinks\, clothing\, jewelry and much more! \nCome support your community!
URL:https://liveinlosbarriles.com/event/farmers-market-laguna-park-2023-07-15/
LOCATION:Farmer’s Market
CATEGORIES:Community Event,Dining,Live Music,Shopping/Sale
ATTACH;FMTTYPE=image/jpeg:https://liveinlosbarriles.com/wp-content/uploads/2022/12/Farmers-Market.jpeg
END:VEVENT
BEGIN:VEVENT
DTSTART;TZID=America/Chicago:20230714T180000
DTEND;TZID=America/Chicago:20230714T210000
DTSTAMP:20260423T181434
CREATED:20221215T214523Z
LAST-MODIFIED:20221215T214523Z
UID:3057-1689357600-1689368400@liveinlosbarriles.com
SUMMARY:Live Music with Gatos Pardos
DESCRIPTION:Let’s Rock Every Friday! \nMusic from Led Zeppelin\, The Beatles\, CCR\, Deep Purple\, The Doors\, ZZ Top\, AC/DC and more!
URL:https://liveinlosbarriles.com/event/live-music-with-gatos-pardos-2023-07-14/
LOCATION:La Playa Restaurant & Bar
CATEGORIES:Live Music
ATTACH;FMTTYPE=image/jpeg:https://liveinlosbarriles.com/wp-content/uploads/2022/12/Gatos-Pardos-La-PLaya.jpeg
END:VEVENT
BEGIN:VEVENT
DTSTART;TZID=America/Chicago:20230713T183000
DTEND;TZID=America/Chicago:20230713T210000
DTSTAMP:20260423T181434
CREATED:20221215T210059Z
LAST-MODIFIED:20221215T210059Z
UID:2941-1689273000-1689282000@liveinlosbarriles.com
SUMMARY:Local Musicians Jam!
DESCRIPTION:Come support your talented friends & neighbors! Music starts at 6:30pm.
URL:https://liveinlosbarriles.com/event/local-musicians-jam-2023-07-13/
LOCATION:Sweetpea’s Tiki Bar & Grill
CATEGORIES:Live Music
ATTACH;FMTTYPE=image/jpeg:https://liveinlosbarriles.com/wp-content/uploads/2018/05/image-2-copyright.jpg
END:VEVENT
BEGIN:VEVENT
DTSTART;TZID=America/Chicago:20230708T090000
DTEND;TZID=America/Chicago:20230708T140000
DTSTAMP:20260423T181434
CREATED:20221215T235858Z
LAST-MODIFIED:20221215T235858Z
UID:3091-1688806800-1688824800@liveinlosbarriles.com
SUMMARY:Farmer's Market @ Laguna Park
DESCRIPTION:Great selection of local foods\, produce\, drinks\, clothing\, jewelry and much more! \nCome support your community!
URL:https://liveinlosbarriles.com/event/farmers-market-laguna-park-2023-07-08/
LOCATION:Farmer’s Market
CATEGORIES:Community Event,Dining,Live Music,Shopping/Sale
ATTACH;FMTTYPE=image/jpeg:https://liveinlosbarriles.com/wp-content/uploads/2022/12/Farmers-Market.jpeg
END:VEVENT
BEGIN:VEVENT
DTSTART;TZID=America/Chicago:20230707T180000
DTEND;TZID=America/Chicago:20230707T210000
DTSTAMP:20260423T181434
CREATED:20221215T214523Z
LAST-MODIFIED:20221215T214523Z
UID:3056-1688752800-1688763600@liveinlosbarriles.com
SUMMARY:Live Music with Gatos Pardos
DESCRIPTION:Let’s Rock Every Friday! \nMusic from Led Zeppelin\, The Beatles\, CCR\, Deep Purple\, The Doors\, ZZ Top\, AC/DC and more!
URL:https://liveinlosbarriles.com/event/live-music-with-gatos-pardos-2023-07-07/
LOCATION:La Playa Restaurant & Bar
CATEGORIES:Live Music
ATTACH;FMTTYPE=image/jpeg:https://liveinlosbarriles.com/wp-content/uploads/2022/12/Gatos-Pardos-La-PLaya.jpeg
END:VEVENT
BEGIN:VEVENT
DTSTART;TZID=America/Chicago:20230706T183000
DTEND;TZID=America/Chicago:20230706T210000
DTSTAMP:20260423T181434
CREATED:20221215T210059Z
LAST-MODIFIED:20221215T210059Z
UID:2940-1688668200-1688677200@liveinlosbarriles.com
SUMMARY:Local Musicians Jam!
DESCRIPTION:Come support your talented friends & neighbors! Music starts at 6:30pm.
URL:https://liveinlosbarriles.com/event/local-musicians-jam-2023-07-06/
LOCATION:Sweetpea’s Tiki Bar & Grill
CATEGORIES:Live Music
ATTACH;FMTTYPE=image/jpeg:https://liveinlosbarriles.com/wp-content/uploads/2018/05/image-2-copyright.jpg
END:VEVENT
BEGIN:VEVENT
DTSTART;TZID=America/Chicago:20230701T090000
DTEND;TZID=America/Chicago:20230701T140000
DTSTAMP:20260423T181434
CREATED:20221215T235858Z
LAST-MODIFIED:20221215T235858Z
UID:3090-1688202000-1688220000@liveinlosbarriles.com
SUMMARY:Farmer's Market @ Laguna Park
DESCRIPTION:Great selection of local foods\, produce\, drinks\, clothing\, jewelry and much more! \nCome support your community!
URL:https://liveinlosbarriles.com/event/farmers-market-laguna-park-2023-07-01/
LOCATION:Farmer’s Market
CATEGORIES:Community Event,Dining,Live Music,Shopping/Sale
ATTACH;FMTTYPE=image/jpeg:https://liveinlosbarriles.com/wp-content/uploads/2022/12/Farmers-Market.jpeg
END:VEVENT
BEGIN:VEVENT
DTSTART;TZID=America/Chicago:20230630T180000
DTEND;TZID=America/Chicago:20230630T210000
DTSTAMP:20260423T181434
CREATED:20221215T214523Z
LAST-MODIFIED:20221215T214523Z
UID:3055-1688148000-1688158800@liveinlosbarriles.com
SUMMARY:Live Music with Gatos Pardos
DESCRIPTION:Let’s Rock Every Friday! \nMusic from Led Zeppelin\, The Beatles\, CCR\, Deep Purple\, The Doors\, ZZ Top\, AC/DC and more!
URL:https://liveinlosbarriles.com/event/live-music-with-gatos-pardos-2023-06-30/
LOCATION:La Playa Restaurant & Bar
CATEGORIES:Live Music
ATTACH;FMTTYPE=image/jpeg:https://liveinlosbarriles.com/wp-content/uploads/2022/12/Gatos-Pardos-La-PLaya.jpeg
END:VEVENT
BEGIN:VEVENT
DTSTART;TZID=America/Chicago:20230629T183000
DTEND;TZID=America/Chicago:20230629T210000
DTSTAMP:20260423T181434
CREATED:20221215T210059Z
LAST-MODIFIED:20221215T210059Z
UID:2939-1688063400-1688072400@liveinlosbarriles.com
SUMMARY:Local Musicians Jam!
DESCRIPTION:Come support your talented friends & neighbors! Music starts at 6:30pm.
URL:https://liveinlosbarriles.com/event/local-musicians-jam-2023-06-29/
LOCATION:Sweetpea’s Tiki Bar & Grill
CATEGORIES:Live Music
ATTACH;FMTTYPE=image/jpeg:https://liveinlosbarriles.com/wp-content/uploads/2018/05/image-2-copyright.jpg
END:VEVENT
BEGIN:VEVENT
DTSTART;TZID=America/Chicago:20230624T090000
DTEND;TZID=America/Chicago:20230624T140000
DTSTAMP:20260423T181434
CREATED:20221215T235858Z
LAST-MODIFIED:20221215T235858Z
UID:3089-1687597200-1687615200@liveinlosbarriles.com
SUMMARY:Farmer's Market @ Laguna Park
DESCRIPTION:Great selection of local foods\, produce\, drinks\, clothing\, jewelry and much more! \nCome support your community!
URL:https://liveinlosbarriles.com/event/farmers-market-laguna-park-2023-06-24/
LOCATION:Farmer’s Market
CATEGORIES:Community Event,Dining,Live Music,Shopping/Sale
ATTACH;FMTTYPE=image/jpeg:https://liveinlosbarriles.com/wp-content/uploads/2022/12/Farmers-Market.jpeg
END:VEVENT
BEGIN:VEVENT
DTSTART;TZID=America/Chicago:20230623T180000
DTEND;TZID=America/Chicago:20230623T210000
DTSTAMP:20260423T181434
CREATED:20221215T214523Z
LAST-MODIFIED:20221215T214523Z
UID:3054-1687543200-1687554000@liveinlosbarriles.com
SUMMARY:Live Music with Gatos Pardos
DESCRIPTION:Let’s Rock Every Friday! \nMusic from Led Zeppelin\, The Beatles\, CCR\, Deep Purple\, The Doors\, ZZ Top\, AC/DC and more!
URL:https://liveinlosbarriles.com/event/live-music-with-gatos-pardos-2023-06-23/
LOCATION:La Playa Restaurant & Bar
CATEGORIES:Live Music
ATTACH;FMTTYPE=image/jpeg:https://liveinlosbarriles.com/wp-content/uploads/2022/12/Gatos-Pardos-La-PLaya.jpeg
END:VEVENT
BEGIN:VEVENT
DTSTART;TZID=America/Chicago:20230622T183000
DTEND;TZID=America/Chicago:20230622T210000
DTSTAMP:20260423T181434
CREATED:20221215T210059Z
LAST-MODIFIED:20221215T210059Z
UID:2938-1687458600-1687467600@liveinlosbarriles.com
SUMMARY:Local Musicians Jam!
DESCRIPTION:Come support your talented friends & neighbors! Music starts at 6:30pm.
URL:https://liveinlosbarriles.com/event/local-musicians-jam-2023-06-22/
LOCATION:Sweetpea’s Tiki Bar & Grill
CATEGORIES:Live Music
ATTACH;FMTTYPE=image/jpeg:https://liveinlosbarriles.com/wp-content/uploads/2018/05/image-2-copyright.jpg
END:VEVENT
BEGIN:VEVENT
DTSTART;TZID=America/Chicago:20230617T090000
DTEND;TZID=America/Chicago:20230617T140000
DTSTAMP:20260423T181434
CREATED:20221215T235858Z
LAST-MODIFIED:20221215T235858Z
UID:3088-1686992400-1687010400@liveinlosbarriles.com
SUMMARY:Farmer's Market @ Laguna Park
DESCRIPTION:Great selection of local foods\, produce\, drinks\, clothing\, jewelry and much more! \nCome support your community!
URL:https://liveinlosbarriles.com/event/farmers-market-laguna-park-2023-06-17/
LOCATION:Farmer’s Market
CATEGORIES:Community Event,Dining,Live Music,Shopping/Sale
ATTACH;FMTTYPE=image/jpeg:https://liveinlosbarriles.com/wp-content/uploads/2022/12/Farmers-Market.jpeg
END:VEVENT
BEGIN:VEVENT
DTSTART;TZID=America/Chicago:20230616T180000
DTEND;TZID=America/Chicago:20230616T210000
DTSTAMP:20260423T181434
CREATED:20221215T214523Z
LAST-MODIFIED:20221215T214523Z
UID:3053-1686938400-1686949200@liveinlosbarriles.com
SUMMARY:Live Music with Gatos Pardos
DESCRIPTION:Let’s Rock Every Friday! \nMusic from Led Zeppelin\, The Beatles\, CCR\, Deep Purple\, The Doors\, ZZ Top\, AC/DC and more!
URL:https://liveinlosbarriles.com/event/live-music-with-gatos-pardos-2023-06-16/
LOCATION:La Playa Restaurant & Bar
CATEGORIES:Live Music
ATTACH;FMTTYPE=image/jpeg:https://liveinlosbarriles.com/wp-content/uploads/2022/12/Gatos-Pardos-La-PLaya.jpeg
END:VEVENT
BEGIN:VEVENT
DTSTART;TZID=America/Chicago:20230615T183000
DTEND;TZID=America/Chicago:20230615T210000
DTSTAMP:20260423T181434
CREATED:20221215T210059Z
LAST-MODIFIED:20221215T210059Z
UID:2937-1686853800-1686862800@liveinlosbarriles.com
SUMMARY:Local Musicians Jam!
DESCRIPTION:Come support your talented friends & neighbors! Music starts at 6:30pm.
URL:https://liveinlosbarriles.com/event/local-musicians-jam-2023-06-15/
LOCATION:Sweetpea’s Tiki Bar & Grill
CATEGORIES:Live Music
ATTACH;FMTTYPE=image/jpeg:https://liveinlosbarriles.com/wp-content/uploads/2018/05/image-2-copyright.jpg
END:VEVENT
BEGIN:VEVENT
DTSTART;TZID=America/Chicago:20230610T090000
DTEND;TZID=America/Chicago:20230610T140000
DTSTAMP:20260423T181434
CREATED:20221215T235858Z
LAST-MODIFIED:20221215T235858Z
UID:3087-1686387600-1686405600@liveinlosbarriles.com
SUMMARY:Farmer's Market @ Laguna Park
DESCRIPTION:Great selection of local foods\, produce\, drinks\, clothing\, jewelry and much more! \nCome support your community!
URL:https://liveinlosbarriles.com/event/farmers-market-laguna-park-2023-06-10/
LOCATION:Farmer’s Market
CATEGORIES:Community Event,Dining,Live Music,Shopping/Sale
ATTACH;FMTTYPE=image/jpeg:https://liveinlosbarriles.com/wp-content/uploads/2022/12/Farmers-Market.jpeg
END:VEVENT
BEGIN:VEVENT
DTSTART;TZID=America/Chicago:20230609T180000
DTEND;TZID=America/Chicago:20230609T210000
DTSTAMP:20260423T181434
CREATED:20221215T214523Z
LAST-MODIFIED:20221215T214523Z
UID:3052-1686333600-1686344400@liveinlosbarriles.com
SUMMARY:Live Music with Gatos Pardos
DESCRIPTION:Let’s Rock Every Friday! \nMusic from Led Zeppelin\, The Beatles\, CCR\, Deep Purple\, The Doors\, ZZ Top\, AC/DC and more!
URL:https://liveinlosbarriles.com/event/live-music-with-gatos-pardos-2023-06-09/
LOCATION:La Playa Restaurant & Bar
CATEGORIES:Live Music
ATTACH;FMTTYPE=image/jpeg:https://liveinlosbarriles.com/wp-content/uploads/2022/12/Gatos-Pardos-La-PLaya.jpeg
END:VEVENT
BEGIN:VEVENT
DTSTART;TZID=America/Chicago:20230608T183000
DTEND;TZID=America/Chicago:20230608T210000
DTSTAMP:20260423T181434
CREATED:20221215T210059Z
LAST-MODIFIED:20221215T210059Z
UID:2936-1686249000-1686258000@liveinlosbarriles.com
SUMMARY:Local Musicians Jam!
DESCRIPTION:Come support your talented friends & neighbors! Music starts at 6:30pm.
URL:https://liveinlosbarriles.com/event/local-musicians-jam-2023-06-08/
LOCATION:Sweetpea’s Tiki Bar & Grill
CATEGORIES:Live Music
ATTACH;FMTTYPE=image/jpeg:https://liveinlosbarriles.com/wp-content/uploads/2018/05/image-2-copyright.jpg
END:VEVENT
BEGIN:VEVENT
DTSTART;TZID=America/Chicago:20230603T090000
DTEND;TZID=America/Chicago:20230603T140000
DTSTAMP:20260423T181434
CREATED:20221215T235858Z
LAST-MODIFIED:20221215T235858Z
UID:3086-1685782800-1685800800@liveinlosbarriles.com
SUMMARY:Farmer's Market @ Laguna Park
DESCRIPTION:Great selection of local foods\, produce\, drinks\, clothing\, jewelry and much more! \nCome support your community!
URL:https://liveinlosbarriles.com/event/farmers-market-laguna-park-2023-06-03/
LOCATION:Farmer’s Market
CATEGORIES:Community Event,Dining,Live Music,Shopping/Sale
ATTACH;FMTTYPE=image/jpeg:https://liveinlosbarriles.com/wp-content/uploads/2022/12/Farmers-Market.jpeg
END:VEVENT
BEGIN:VEVENT
DTSTART;TZID=America/Chicago:20230602T180000
DTEND;TZID=America/Chicago:20230602T210000
DTSTAMP:20260423T181434
CREATED:20221215T214523Z
LAST-MODIFIED:20221215T214523Z
UID:3051-1685728800-1685739600@liveinlosbarriles.com
SUMMARY:Live Music with Gatos Pardos
DESCRIPTION:Let’s Rock Every Friday! \nMusic from Led Zeppelin\, The Beatles\, CCR\, Deep Purple\, The Doors\, ZZ Top\, AC/DC and more!
URL:https://liveinlosbarriles.com/event/live-music-with-gatos-pardos-2023-06-02/
LOCATION:La Playa Restaurant & Bar
CATEGORIES:Live Music
ATTACH;FMTTYPE=image/jpeg:https://liveinlosbarriles.com/wp-content/uploads/2022/12/Gatos-Pardos-La-PLaya.jpeg
END:VEVENT
BEGIN:VEVENT
DTSTART;TZID=America/Chicago:20230601T183000
DTEND;TZID=America/Chicago:20230601T210000
DTSTAMP:20260423T181434
CREATED:20221215T210059Z
LAST-MODIFIED:20221215T210059Z
UID:2935-1685644200-1685653200@liveinlosbarriles.com
SUMMARY:Local Musicians Jam!
DESCRIPTION:Come support your talented friends & neighbors! Music starts at 6:30pm.
URL:https://liveinlosbarriles.com/event/local-musicians-jam-2023-06-01/
LOCATION:Sweetpea’s Tiki Bar & Grill
CATEGORIES:Live Music
ATTACH;FMTTYPE=image/jpeg:https://liveinlosbarriles.com/wp-content/uploads/2018/05/image-2-copyright.jpg
END:VEVENT
BEGIN:VEVENT
DTSTART;TZID=America/Chicago:20230527T090000
DTEND;TZID=America/Chicago:20230527T140000
DTSTAMP:20260423T181434
CREATED:20221215T235858Z
LAST-MODIFIED:20221215T235858Z
UID:3085-1685178000-1685196000@liveinlosbarriles.com
SUMMARY:Farmer's Market @ Laguna Park
DESCRIPTION:Great selection of local foods\, produce\, drinks\, clothing\, jewelry and much more! \nCome support your community!
URL:https://liveinlosbarriles.com/event/farmers-market-laguna-park-2023-05-27/
LOCATION:Farmer’s Market
CATEGORIES:Community Event,Dining,Live Music,Shopping/Sale
ATTACH;FMTTYPE=image/jpeg:https://liveinlosbarriles.com/wp-content/uploads/2022/12/Farmers-Market.jpeg
END:VEVENT
BEGIN:VEVENT
DTSTART;TZID=America/Chicago:20230526T180000
DTEND;TZID=America/Chicago:20230526T210000
DTSTAMP:20260423T181434
CREATED:20221215T214523Z
LAST-MODIFIED:20221215T214523Z
UID:3050-1685124000-1685134800@liveinlosbarriles.com
SUMMARY:Live Music with Gatos Pardos
DESCRIPTION:Let’s Rock Every Friday! \nMusic from Led Zeppelin\, The Beatles\, CCR\, Deep Purple\, The Doors\, ZZ Top\, AC/DC and more!
URL:https://liveinlosbarriles.com/event/live-music-with-gatos-pardos-2023-05-26/
LOCATION:La Playa Restaurant & Bar
CATEGORIES:Live Music
ATTACH;FMTTYPE=image/jpeg:https://liveinlosbarriles.com/wp-content/uploads/2022/12/Gatos-Pardos-La-PLaya.jpeg
END:VEVENT
BEGIN:VEVENT
DTSTART;TZID=America/Chicago:20230525T183000
DTEND;TZID=America/Chicago:20230525T210000
DTSTAMP:20260423T181434
CREATED:20221215T210059Z
LAST-MODIFIED:20221215T210059Z
UID:2934-1685039400-1685048400@liveinlosbarriles.com
SUMMARY:Local Musicians Jam!
DESCRIPTION:Come support your talented friends & neighbors! Music starts at 6:30pm.
URL:https://liveinlosbarriles.com/event/local-musicians-jam-2023-05-25/
LOCATION:Sweetpea’s Tiki Bar & Grill
CATEGORIES:Live Music
ATTACH;FMTTYPE=image/jpeg:https://liveinlosbarriles.com/wp-content/uploads/2018/05/image-2-copyright.jpg
END:VEVENT
END:VCALENDAR