BEGIN:VCALENDAR
VERSION:2.0
PRODID:-//Live in Los Barriles - ECPv6.15.3//NONSGML v1.0//EN
CALSCALE:GREGORIAN
METHOD:PUBLISH
X-WR-CALNAME:Live in Los Barriles
X-ORIGINAL-URL:https://liveinlosbarriles.com
X-WR-CALDESC:Events for Live in Los Barriles
REFRESH-INTERVAL;VALUE=DURATION:PT1H
X-Robots-Tag:noindex
X-PUBLISHED-TTL:PT1H
BEGIN:VTIMEZONE
TZID:America/Chicago
BEGIN:DAYLIGHT
TZOFFSETFROM:-0600
TZOFFSETTO:-0500
TZNAME:CDT
DTSTART:20230312T080000
END:DAYLIGHT
BEGIN:STANDARD
TZOFFSETFROM:-0500
TZOFFSETTO:-0600
TZNAME:CST
DTSTART:20231105T070000
END:STANDARD
END:VTIMEZONE
BEGIN:VEVENT
DTSTART;TZID=America/Chicago:20230316T180000
DTEND;TZID=America/Chicago:20230316T210000
DTSTAMP:20260425T060720
CREATED:20230121T190034Z
LAST-MODIFIED:20230121T190034Z
UID:3215-1678989600-1679000400@liveinlosbarriles.com
SUMMARY:Thursday of music and memories
DESCRIPTION:Come and enjoy a wide variety of music and songs from diferents times. Alvert and Chello bring you memories of many Decades with with authentic Italian food.
URL:https://liveinlosbarriles.com/event/thursday-of-music-and-memories-2023-03-16/
LOCATION:Pizzas Don Roberto\, Carretera Transpeninsular en frente a la fuente los Barriles\, Los Barriles\, BCS\, 23300\, Mexico
ATTACH;FMTTYPE=image/jpeg:https://liveinlosbarriles.com/wp-content/uploads/2023/01/59469EBF-A23C-4976-AABC-2B94F32675D1.jpeg
END:VEVENT
BEGIN:VEVENT
DTSTART;TZID=America/Chicago:20230314T170000
DTEND;TZID=America/Chicago:20230314T210000
DTSTAMP:20260425T060720
CREATED:20221215T212006Z
LAST-MODIFIED:20221215T212006Z
UID:2966-1678813200-1678827600@liveinlosbarriles.com
SUMMARY:Taco Tuesday!
DESCRIPTION:It’s Taco Tuesday tonight 5pm-9pm at SweetPea’s! \nGrilled fresh yellowtail\, shrimp\, chicken or USDA steak with our special sriracha sauce! \nHappy hour 4pm-6pm 2×1 drink specials!!
URL:https://liveinlosbarriles.com/event/taco-tuesday-2023-03-14/
LOCATION:Sweetpea’s Tiki Bar & Grill
CATEGORIES:Dining,Drink Special
ATTACH;FMTTYPE=image/jpeg:https://liveinlosbarriles.com/wp-content/uploads/2022/12/Tacos.jpeg
END:VEVENT
BEGIN:VEVENT
DTSTART;TZID=America/Chicago:20230312T190000
DTEND;TZID=America/Chicago:20230312T210000
DTSTAMP:20260425T060720
CREATED:20221215T212559Z
LAST-MODIFIED:20221215T212559Z
UID:3000-1678647600-1678654800@liveinlosbarriles.com
SUMMARY:Name that Tune!
DESCRIPTION:Saturday Night Name That Tune! \nThe fun starts at 7pm with your host Tiki Joe! \nMake a reservation by email: sweetpeastikibar@gmail.com
URL:https://liveinlosbarriles.com/event/name-that-tune-2023-03-12/
LOCATION:Sweetpea’s Tiki Bar & Grill
CATEGORIES:Community Event
ATTACH;FMTTYPE=image/jpeg:https://liveinlosbarriles.com/wp-content/uploads/2022/12/Name-That-Tune.jpeg
END:VEVENT
BEGIN:VEVENT
DTSTART;TZID=America/Chicago:20230311T090000
DTEND;TZID=America/Chicago:20230311T140000
DTSTAMP:20260425T060720
CREATED:20221215T235858Z
LAST-MODIFIED:20221215T235858Z
UID:3074-1678525200-1678543200@liveinlosbarriles.com
SUMMARY:Farmer's Market @ Laguna Park
DESCRIPTION:Great selection of local foods\, produce\, drinks\, clothing\, jewelry and much more! \nCome support your community!
URL:https://liveinlosbarriles.com/event/farmers-market-laguna-park-2023-03-11/
LOCATION:Farmer’s Market
CATEGORIES:Community Event,Dining,Live Music,Shopping/Sale
ATTACH;FMTTYPE=image/jpeg:https://liveinlosbarriles.com/wp-content/uploads/2022/12/Farmers-Market.jpeg
END:VEVENT
BEGIN:VEVENT
DTSTART;TZID=America/Chicago:20230310T180000
DTEND;TZID=America/Chicago:20230310T210000
DTSTAMP:20260425T060720
CREATED:20221215T214523Z
LAST-MODIFIED:20221215T214523Z
UID:3039-1678471200-1678482000@liveinlosbarriles.com
SUMMARY:Live Music with Gatos Pardos
DESCRIPTION:Let’s Rock Every Friday! \nMusic from Led Zeppelin\, The Beatles\, CCR\, Deep Purple\, The Doors\, ZZ Top\, AC/DC and more!
URL:https://liveinlosbarriles.com/event/live-music-with-gatos-pardos-2023-03-10/
LOCATION:La Playa Restaurant & Bar
CATEGORIES:Live Music
ATTACH;FMTTYPE=image/jpeg:https://liveinlosbarriles.com/wp-content/uploads/2022/12/Gatos-Pardos-La-PLaya.jpeg
END:VEVENT
BEGIN:VEVENT
DTSTART;TZID=America/Chicago:20230309T183000
DTEND;TZID=America/Chicago:20230309T210000
DTSTAMP:20260425T060720
CREATED:20221215T210059Z
LAST-MODIFIED:20221215T210059Z
UID:2923-1678386600-1678395600@liveinlosbarriles.com
SUMMARY:Local Musicians Jam!
DESCRIPTION:Come support your talented friends & neighbors! Music starts at 6:30pm.
URL:https://liveinlosbarriles.com/event/local-musicians-jam-2023-03-09/
LOCATION:Sweetpea’s Tiki Bar & Grill
CATEGORIES:Live Music
ATTACH;FMTTYPE=image/jpeg:https://liveinlosbarriles.com/wp-content/uploads/2018/05/image-2-copyright.jpg
END:VEVENT
BEGIN:VEVENT
DTSTART;TZID=America/Chicago:20230309T180000
DTEND;TZID=America/Chicago:20230309T210000
DTSTAMP:20260425T060720
CREATED:20230121T190033Z
LAST-MODIFIED:20230121T190033Z
UID:3214-1678384800-1678395600@liveinlosbarriles.com
SUMMARY:Thursday of music and memories
DESCRIPTION:Come and enjoy a wide variety of music and songs from diferents times. Alvert and Chello bring you memories of many Decades with with authentic Italian food.
URL:https://liveinlosbarriles.com/event/thursday-of-music-and-memories-2023-03-09/
LOCATION:Pizzas Don Roberto\, Carretera Transpeninsular en frente a la fuente los Barriles\, Los Barriles\, BCS\, 23300\, Mexico
ATTACH;FMTTYPE=image/jpeg:https://liveinlosbarriles.com/wp-content/uploads/2023/01/59469EBF-A23C-4976-AABC-2B94F32675D1.jpeg
END:VEVENT
BEGIN:VEVENT
DTSTART;TZID=America/Chicago:20230307T170000
DTEND;TZID=America/Chicago:20230307T210000
DTSTAMP:20260425T060720
CREATED:20221215T212006Z
LAST-MODIFIED:20221215T212006Z
UID:2965-1678208400-1678222800@liveinlosbarriles.com
SUMMARY:Taco Tuesday!
DESCRIPTION:It’s Taco Tuesday tonight 5pm-9pm at SweetPea’s! \nGrilled fresh yellowtail\, shrimp\, chicken or USDA steak with our special sriracha sauce! \nHappy hour 4pm-6pm 2×1 drink specials!!
URL:https://liveinlosbarriles.com/event/taco-tuesday-2023-03-07/
LOCATION:Sweetpea’s Tiki Bar & Grill
CATEGORIES:Dining,Drink Special
ATTACH;FMTTYPE=image/jpeg:https://liveinlosbarriles.com/wp-content/uploads/2022/12/Tacos.jpeg
END:VEVENT
BEGIN:VEVENT
DTSTART;TZID=America/Chicago:20230305T190000
DTEND;TZID=America/Chicago:20230305T210000
DTSTAMP:20260425T060720
CREATED:20221215T212559Z
LAST-MODIFIED:20221215T212559Z
UID:2999-1678042800-1678050000@liveinlosbarriles.com
SUMMARY:Name that Tune!
DESCRIPTION:Saturday Night Name That Tune! \nThe fun starts at 7pm with your host Tiki Joe! \nMake a reservation by email: sweetpeastikibar@gmail.com
URL:https://liveinlosbarriles.com/event/name-that-tune-2023-03-05/
LOCATION:Sweetpea’s Tiki Bar & Grill
CATEGORIES:Community Event
ATTACH;FMTTYPE=image/jpeg:https://liveinlosbarriles.com/wp-content/uploads/2022/12/Name-That-Tune.jpeg
END:VEVENT
BEGIN:VEVENT
DTSTART;TZID=America/Chicago:20230304T090000
DTEND;TZID=America/Chicago:20230304T140000
DTSTAMP:20260425T060720
CREATED:20221215T235858Z
LAST-MODIFIED:20221215T235858Z
UID:3073-1677920400-1677938400@liveinlosbarriles.com
SUMMARY:Farmer's Market @ Laguna Park
DESCRIPTION:Great selection of local foods\, produce\, drinks\, clothing\, jewelry and much more! \nCome support your community!
URL:https://liveinlosbarriles.com/event/farmers-market-laguna-park-2023-03-04/
LOCATION:Farmer’s Market
CATEGORIES:Community Event,Dining,Live Music,Shopping/Sale
ATTACH;FMTTYPE=image/jpeg:https://liveinlosbarriles.com/wp-content/uploads/2022/12/Farmers-Market.jpeg
END:VEVENT
BEGIN:VEVENT
DTSTART;TZID=America/Chicago:20230303T180000
DTEND;TZID=America/Chicago:20230303T210000
DTSTAMP:20260425T060720
CREATED:20221215T214523Z
LAST-MODIFIED:20221215T214523Z
UID:3038-1677866400-1677877200@liveinlosbarriles.com
SUMMARY:Live Music with Gatos Pardos
DESCRIPTION:Let’s Rock Every Friday! \nMusic from Led Zeppelin\, The Beatles\, CCR\, Deep Purple\, The Doors\, ZZ Top\, AC/DC and more!
URL:https://liveinlosbarriles.com/event/live-music-with-gatos-pardos-2023-03-03/
LOCATION:La Playa Restaurant & Bar
CATEGORIES:Live Music
ATTACH;FMTTYPE=image/jpeg:https://liveinlosbarriles.com/wp-content/uploads/2022/12/Gatos-Pardos-La-PLaya.jpeg
END:VEVENT
BEGIN:VEVENT
DTSTART;TZID=America/Chicago:20230302T183000
DTEND;TZID=America/Chicago:20230302T210000
DTSTAMP:20260425T060720
CREATED:20221215T210059Z
LAST-MODIFIED:20221215T210059Z
UID:2922-1677781800-1677790800@liveinlosbarriles.com
SUMMARY:Local Musicians Jam!
DESCRIPTION:Come support your talented friends & neighbors! Music starts at 6:30pm.
URL:https://liveinlosbarriles.com/event/local-musicians-jam-2023-03-02/
LOCATION:Sweetpea’s Tiki Bar & Grill
CATEGORIES:Live Music
ATTACH;FMTTYPE=image/jpeg:https://liveinlosbarriles.com/wp-content/uploads/2018/05/image-2-copyright.jpg
END:VEVENT
BEGIN:VEVENT
DTSTART;TZID=America/Chicago:20230302T180000
DTEND;TZID=America/Chicago:20230302T210000
DTSTAMP:20260425T060720
CREATED:20230121T190033Z
LAST-MODIFIED:20230121T190033Z
UID:3213-1677780000-1677790800@liveinlosbarriles.com
SUMMARY:Thursday of music and memories
DESCRIPTION:Come and enjoy a wide variety of music and songs from diferents times. Alvert and Chello bring you memories of many Decades with with authentic Italian food.
URL:https://liveinlosbarriles.com/event/thursday-of-music-and-memories-2023-03-02/
LOCATION:Pizzas Don Roberto\, Carretera Transpeninsular en frente a la fuente los Barriles\, Los Barriles\, BCS\, 23300\, Mexico
ATTACH;FMTTYPE=image/jpeg:https://liveinlosbarriles.com/wp-content/uploads/2023/01/59469EBF-A23C-4976-AABC-2B94F32675D1.jpeg
END:VEVENT
BEGIN:VEVENT
DTSTART;TZID=America/Chicago:20230228T170000
DTEND;TZID=America/Chicago:20230228T210000
DTSTAMP:20260425T060720
CREATED:20221215T212006Z
LAST-MODIFIED:20221215T212006Z
UID:2964-1677603600-1677618000@liveinlosbarriles.com
SUMMARY:Taco Tuesday!
DESCRIPTION:It’s Taco Tuesday tonight 5pm-9pm at SweetPea’s! \nGrilled fresh yellowtail\, shrimp\, chicken or USDA steak with our special sriracha sauce! \nHappy hour 4pm-6pm 2×1 drink specials!!
URL:https://liveinlosbarriles.com/event/taco-tuesday-2023-02-28/
LOCATION:Sweetpea’s Tiki Bar & Grill
CATEGORIES:Dining,Drink Special
ATTACH;FMTTYPE=image/jpeg:https://liveinlosbarriles.com/wp-content/uploads/2022/12/Tacos.jpeg
END:VEVENT
BEGIN:VEVENT
DTSTART;TZID=America/Chicago:20230226T190000
DTEND;TZID=America/Chicago:20230226T210000
DTSTAMP:20260425T060720
CREATED:20221215T212559Z
LAST-MODIFIED:20221215T212559Z
UID:2998-1677438000-1677445200@liveinlosbarriles.com
SUMMARY:Name that Tune!
DESCRIPTION:Saturday Night Name That Tune! \nThe fun starts at 7pm with your host Tiki Joe! \nMake a reservation by email: sweetpeastikibar@gmail.com
URL:https://liveinlosbarriles.com/event/name-that-tune-2023-02-26/
LOCATION:Sweetpea’s Tiki Bar & Grill
CATEGORIES:Community Event
ATTACH;FMTTYPE=image/jpeg:https://liveinlosbarriles.com/wp-content/uploads/2022/12/Name-That-Tune.jpeg
END:VEVENT
BEGIN:VEVENT
DTSTART;TZID=America/Chicago:20230225T090000
DTEND;TZID=America/Chicago:20230225T140000
DTSTAMP:20260425T060720
CREATED:20221215T235858Z
LAST-MODIFIED:20221215T235858Z
UID:3072-1677315600-1677333600@liveinlosbarriles.com
SUMMARY:Farmer's Market @ Laguna Park
DESCRIPTION:Great selection of local foods\, produce\, drinks\, clothing\, jewelry and much more! \nCome support your community!
URL:https://liveinlosbarriles.com/event/farmers-market-laguna-park-2023-02-25/
LOCATION:Farmer’s Market
CATEGORIES:Community Event,Dining,Live Music,Shopping/Sale
ATTACH;FMTTYPE=image/jpeg:https://liveinlosbarriles.com/wp-content/uploads/2022/12/Farmers-Market.jpeg
END:VEVENT
BEGIN:VEVENT
DTSTART;TZID=America/Chicago:20230224T180000
DTEND;TZID=America/Chicago:20230224T210000
DTSTAMP:20260425T060720
CREATED:20221215T214523Z
LAST-MODIFIED:20221215T214523Z
UID:3037-1677261600-1677272400@liveinlosbarriles.com
SUMMARY:Live Music with Gatos Pardos
DESCRIPTION:Let’s Rock Every Friday! \nMusic from Led Zeppelin\, The Beatles\, CCR\, Deep Purple\, The Doors\, ZZ Top\, AC/DC and more!
URL:https://liveinlosbarriles.com/event/live-music-with-gatos-pardos-2023-02-24/
LOCATION:La Playa Restaurant & Bar
CATEGORIES:Live Music
ATTACH;FMTTYPE=image/jpeg:https://liveinlosbarriles.com/wp-content/uploads/2022/12/Gatos-Pardos-La-PLaya.jpeg
END:VEVENT
BEGIN:VEVENT
DTSTART;TZID=America/Chicago:20230223T183000
DTEND;TZID=America/Chicago:20230223T210000
DTSTAMP:20260425T060720
CREATED:20221215T210059Z
LAST-MODIFIED:20221215T210059Z
UID:2921-1677177000-1677186000@liveinlosbarriles.com
SUMMARY:Local Musicians Jam!
DESCRIPTION:Come support your talented friends & neighbors! Music starts at 6:30pm.
URL:https://liveinlosbarriles.com/event/local-musicians-jam-2023-02-23/
LOCATION:Sweetpea’s Tiki Bar & Grill
CATEGORIES:Live Music
ATTACH;FMTTYPE=image/jpeg:https://liveinlosbarriles.com/wp-content/uploads/2018/05/image-2-copyright.jpg
END:VEVENT
BEGIN:VEVENT
DTSTART;TZID=America/Chicago:20230223T180000
DTEND;TZID=America/Chicago:20230223T210000
DTSTAMP:20260425T060720
CREATED:20230121T190032Z
LAST-MODIFIED:20230121T190032Z
UID:3212-1677175200-1677186000@liveinlosbarriles.com
SUMMARY:Thursday of music and memories
DESCRIPTION:Come and enjoy a wide variety of music and songs from diferents times. Alvert and Chello bring you memories of many Decades with with authentic Italian food.
URL:https://liveinlosbarriles.com/event/thursday-of-music-and-memories-2023-02-23/
LOCATION:Pizzas Don Roberto\, Carretera Transpeninsular en frente a la fuente los Barriles\, Los Barriles\, BCS\, 23300\, Mexico
ATTACH;FMTTYPE=image/jpeg:https://liveinlosbarriles.com/wp-content/uploads/2023/01/59469EBF-A23C-4976-AABC-2B94F32675D1.jpeg
END:VEVENT
BEGIN:VEVENT
DTSTART;TZID=America/Chicago:20230221T170000
DTEND;TZID=America/Chicago:20230221T210000
DTSTAMP:20260425T060720
CREATED:20221215T212006Z
LAST-MODIFIED:20221215T212006Z
UID:2963-1676998800-1677013200@liveinlosbarriles.com
SUMMARY:Taco Tuesday!
DESCRIPTION:It’s Taco Tuesday tonight 5pm-9pm at SweetPea’s! \nGrilled fresh yellowtail\, shrimp\, chicken or USDA steak with our special sriracha sauce! \nHappy hour 4pm-6pm 2×1 drink specials!!
URL:https://liveinlosbarriles.com/event/taco-tuesday-2023-02-21/
LOCATION:Sweetpea’s Tiki Bar & Grill
CATEGORIES:Dining,Drink Special
ATTACH;FMTTYPE=image/jpeg:https://liveinlosbarriles.com/wp-content/uploads/2022/12/Tacos.jpeg
END:VEVENT
BEGIN:VEVENT
DTSTART;TZID=America/Chicago:20230219T190000
DTEND;TZID=America/Chicago:20230219T210000
DTSTAMP:20260425T060720
CREATED:20221215T212559Z
LAST-MODIFIED:20221215T212559Z
UID:2997-1676833200-1676840400@liveinlosbarriles.com
SUMMARY:Name that Tune!
DESCRIPTION:Saturday Night Name That Tune! \nThe fun starts at 7pm with your host Tiki Joe! \nMake a reservation by email: sweetpeastikibar@gmail.com
URL:https://liveinlosbarriles.com/event/name-that-tune-2023-02-19/
LOCATION:Sweetpea’s Tiki Bar & Grill
CATEGORIES:Community Event
ATTACH;FMTTYPE=image/jpeg:https://liveinlosbarriles.com/wp-content/uploads/2022/12/Name-That-Tune.jpeg
END:VEVENT
BEGIN:VEVENT
DTSTART;TZID=America/Chicago:20230218T090000
DTEND;TZID=America/Chicago:20230218T140000
DTSTAMP:20260425T060720
CREATED:20221215T235858Z
LAST-MODIFIED:20221215T235858Z
UID:3071-1676710800-1676728800@liveinlosbarriles.com
SUMMARY:Farmer's Market @ Laguna Park
DESCRIPTION:Great selection of local foods\, produce\, drinks\, clothing\, jewelry and much more! \nCome support your community!
URL:https://liveinlosbarriles.com/event/farmers-market-laguna-park-2023-02-18/
LOCATION:Farmer’s Market
CATEGORIES:Community Event,Dining,Live Music,Shopping/Sale
ATTACH;FMTTYPE=image/jpeg:https://liveinlosbarriles.com/wp-content/uploads/2022/12/Farmers-Market.jpeg
END:VEVENT
BEGIN:VEVENT
DTSTART;TZID=America/Chicago:20230217T190000
DTEND;TZID=America/Chicago:20230217T220000
DTSTAMP:20260425T060720
CREATED:20221020T190609Z
LAST-MODIFIED:20221020T190609Z
UID:3104-1676660400-1676671200@liveinlosbarriles.com
SUMMARY:Live Music with Stamina!
DESCRIPTION:Power Reggae Trio
URL:https://liveinlosbarriles.com/event/stamina-2023-02-17/
LOCATION:Sweetpea’s Tiki Bar & Grill
CATEGORIES:Live Music
ATTACH;FMTTYPE=image/jpeg:https://liveinlosbarriles.com/wp-content/uploads/2022/10/Stamina.jpeg
END:VEVENT
BEGIN:VEVENT
DTSTART;TZID=America/Chicago:20230217T180000
DTEND;TZID=America/Chicago:20230217T210000
DTSTAMP:20260425T060720
CREATED:20221215T214523Z
LAST-MODIFIED:20221215T214523Z
UID:3036-1676656800-1676667600@liveinlosbarriles.com
SUMMARY:Live Music with Gatos Pardos
DESCRIPTION:Let’s Rock Every Friday! \nMusic from Led Zeppelin\, The Beatles\, CCR\, Deep Purple\, The Doors\, ZZ Top\, AC/DC and more!
URL:https://liveinlosbarriles.com/event/live-music-with-gatos-pardos-2023-02-17/
LOCATION:La Playa Restaurant & Bar
CATEGORIES:Live Music
ATTACH;FMTTYPE=image/jpeg:https://liveinlosbarriles.com/wp-content/uploads/2022/12/Gatos-Pardos-La-PLaya.jpeg
END:VEVENT
BEGIN:VEVENT
DTSTART;TZID=America/Chicago:20230216T183000
DTEND;TZID=America/Chicago:20230216T210000
DTSTAMP:20260425T060720
CREATED:20221215T210059Z
LAST-MODIFIED:20221215T210059Z
UID:2920-1676572200-1676581200@liveinlosbarriles.com
SUMMARY:Local Musicians Jam!
DESCRIPTION:Come support your talented friends & neighbors! Music starts at 6:30pm.
URL:https://liveinlosbarriles.com/event/local-musicians-jam-2023-02-16/
LOCATION:Sweetpea’s Tiki Bar & Grill
CATEGORIES:Live Music
ATTACH;FMTTYPE=image/jpeg:https://liveinlosbarriles.com/wp-content/uploads/2018/05/image-2-copyright.jpg
END:VEVENT
BEGIN:VEVENT
DTSTART;TZID=America/Chicago:20230216T180000
DTEND;TZID=America/Chicago:20230216T210000
DTSTAMP:20260425T060720
CREATED:20230121T190031Z
LAST-MODIFIED:20230121T190031Z
UID:3211-1676570400-1676581200@liveinlosbarriles.com
SUMMARY:Thursday of music and memories
DESCRIPTION:Come and enjoy a wide variety of music and songs from diferents times. Alvert and Chello bring you memories of many Decades with with authentic Italian food.
URL:https://liveinlosbarriles.com/event/thursday-of-music-and-memories-2023-02-16/
LOCATION:Pizzas Don Roberto\, Carretera Transpeninsular en frente a la fuente los Barriles\, Los Barriles\, BCS\, 23300\, Mexico
ATTACH;FMTTYPE=image/jpeg:https://liveinlosbarriles.com/wp-content/uploads/2023/01/59469EBF-A23C-4976-AABC-2B94F32675D1.jpeg
END:VEVENT
BEGIN:VEVENT
DTSTART;TZID=America/Chicago:20230214T170000
DTEND;TZID=America/Chicago:20230214T210000
DTSTAMP:20260425T060720
CREATED:20221215T212006Z
LAST-MODIFIED:20221215T212006Z
UID:2962-1676394000-1676408400@liveinlosbarriles.com
SUMMARY:Taco Tuesday!
DESCRIPTION:It’s Taco Tuesday tonight 5pm-9pm at SweetPea’s! \nGrilled fresh yellowtail\, shrimp\, chicken or USDA steak with our special sriracha sauce! \nHappy hour 4pm-6pm 2×1 drink specials!!
URL:https://liveinlosbarriles.com/event/taco-tuesday-2023-02-14/
LOCATION:Sweetpea’s Tiki Bar & Grill
CATEGORIES:Dining,Drink Special
ATTACH;FMTTYPE=image/jpeg:https://liveinlosbarriles.com/wp-content/uploads/2022/12/Tacos.jpeg
END:VEVENT
BEGIN:VEVENT
DTSTART;TZID=America/Chicago:20230212T190000
DTEND;TZID=America/Chicago:20230212T210000
DTSTAMP:20260425T060720
CREATED:20221215T212559Z
LAST-MODIFIED:20221215T212559Z
UID:2996-1676228400-1676235600@liveinlosbarriles.com
SUMMARY:Name that Tune!
DESCRIPTION:Saturday Night Name That Tune! \nThe fun starts at 7pm with your host Tiki Joe! \nMake a reservation by email: sweetpeastikibar@gmail.com
URL:https://liveinlosbarriles.com/event/name-that-tune-2023-02-12/
LOCATION:Sweetpea’s Tiki Bar & Grill
CATEGORIES:Community Event
ATTACH;FMTTYPE=image/jpeg:https://liveinlosbarriles.com/wp-content/uploads/2022/12/Name-That-Tune.jpeg
END:VEVENT
BEGIN:VEVENT
DTSTART;TZID=America/Chicago:20230211T090000
DTEND;TZID=America/Chicago:20230211T140000
DTSTAMP:20260425T060720
CREATED:20221215T235858Z
LAST-MODIFIED:20221215T235858Z
UID:3070-1676106000-1676124000@liveinlosbarriles.com
SUMMARY:Farmer's Market @ Laguna Park
DESCRIPTION:Great selection of local foods\, produce\, drinks\, clothing\, jewelry and much more! \nCome support your community!
URL:https://liveinlosbarriles.com/event/farmers-market-laguna-park-2023-02-11/
LOCATION:Farmer’s Market
CATEGORIES:Community Event,Dining,Live Music,Shopping/Sale
ATTACH;FMTTYPE=image/jpeg:https://liveinlosbarriles.com/wp-content/uploads/2022/12/Farmers-Market.jpeg
END:VEVENT
BEGIN:VEVENT
DTSTART;TZID=America/Chicago:20230210T190000
DTEND;TZID=America/Chicago:20230210T220000
DTSTAMP:20260425T060720
CREATED:20221020T190609Z
LAST-MODIFIED:20221020T190609Z
UID:3103-1676055600-1676066400@liveinlosbarriles.com
SUMMARY:Live Music with Stamina!
DESCRIPTION:Power Reggae Trio
URL:https://liveinlosbarriles.com/event/stamina-2023-02-10/
LOCATION:Sweetpea’s Tiki Bar & Grill
CATEGORIES:Live Music
ATTACH;FMTTYPE=image/jpeg:https://liveinlosbarriles.com/wp-content/uploads/2022/10/Stamina.jpeg
END:VEVENT
END:VCALENDAR