BEGIN:VCALENDAR
VERSION:2.0
PRODID:-//Live in Los Barriles - ECPv6.15.3//NONSGML v1.0//EN
CALSCALE:GREGORIAN
METHOD:PUBLISH
X-WR-CALNAME:Live in Los Barriles
X-ORIGINAL-URL:https://liveinlosbarriles.com
X-WR-CALDESC:Events for Live in Los Barriles
REFRESH-INTERVAL;VALUE=DURATION:PT1H
X-Robots-Tag:noindex
X-PUBLISHED-TTL:PT1H
BEGIN:VTIMEZONE
TZID:America/Chicago
BEGIN:DAYLIGHT
TZOFFSETFROM:-0600
TZOFFSETTO:-0500
TZNAME:CDT
DTSTART:20220313T080000
END:DAYLIGHT
BEGIN:STANDARD
TZOFFSETFROM:-0500
TZOFFSETTO:-0600
TZNAME:CST
DTSTART:20221106T070000
END:STANDARD
END:VTIMEZONE
BEGIN:VEVENT
DTSTART;TZID=America/Chicago:20221217T090000
DTEND;TZID=America/Chicago:20221217T140000
DTSTAMP:20260425T115234
CREATED:20221215T235858Z
LAST-MODIFIED:20221215T235858Z
UID:3060-1671267600-1671285600@liveinlosbarriles.com
SUMMARY:Farmer's Market @ Laguna Park
DESCRIPTION:Great selection of local foods\, produce\, drinks\, clothing\, jewelry and much more! \nCome support your community!
URL:https://liveinlosbarriles.com/event/farmers-market-laguna-park/
LOCATION:Farmer’s Market
CATEGORIES:Community Event,Dining,Live Music,Shopping/Sale
ATTACH;FMTTYPE=image/jpeg:https://liveinlosbarriles.com/wp-content/uploads/2022/12/Farmers-Market.jpeg
END:VEVENT
BEGIN:VEVENT
DTSTART;TZID=America/Chicago:20221216T190000
DTEND;TZID=America/Chicago:20221216T220000
DTSTAMP:20260425T115234
CREATED:20221020T190609Z
LAST-MODIFIED:20221216T020937Z
UID:2272-1671217200-1671228000@liveinlosbarriles.com
SUMMARY:Live Music with Stamina!
DESCRIPTION:Power Reggae Trio
URL:https://liveinlosbarriles.com/event/stamina/
LOCATION:Sweetpea’s Tiki Bar & Grill
CATEGORIES:Live Music
ATTACH;FMTTYPE=image/jpeg:https://liveinlosbarriles.com/wp-content/uploads/2022/10/Stamina.jpeg
END:VEVENT
BEGIN:VEVENT
DTSTART;TZID=America/Chicago:20221216T180000
DTEND;TZID=America/Chicago:20221216T210000
DTSTAMP:20260425T115234
CREATED:20221215T214523Z
LAST-MODIFIED:20221215T214523Z
UID:3025-1671213600-1671224400@liveinlosbarriles.com
SUMMARY:Live Music with Gatos Pardos
DESCRIPTION:Let’s Rock Every Friday! \nMusic from Led Zeppelin\, The Beatles\, CCR\, Deep Purple\, The Doors\, ZZ Top\, AC/DC and more!
URL:https://liveinlosbarriles.com/event/live-music-with-gatos-pardos/
LOCATION:La Playa Restaurant & Bar
CATEGORIES:Live Music
ATTACH;FMTTYPE=image/jpeg:https://liveinlosbarriles.com/wp-content/uploads/2022/12/Gatos-Pardos-La-PLaya.jpeg
END:VEVENT
BEGIN:VEVENT
DTSTART;TZID=America/Chicago:20221215T183000
DTEND;TZID=America/Chicago:20221215T210000
DTSTAMP:20260425T115234
CREATED:20221215T210059Z
LAST-MODIFIED:20221215T210059Z
UID:2910-1671129000-1671138000@liveinlosbarriles.com
SUMMARY:Local Musicians Jam!
DESCRIPTION:Come support your talented friends & neighbors! Music starts at 6:30pm.
URL:https://liveinlosbarriles.com/event/local-musicians-jam/
LOCATION:Sweetpea’s Tiki Bar & Grill
CATEGORIES:Live Music
ATTACH;FMTTYPE=image/jpeg:https://liveinlosbarriles.com/wp-content/uploads/2018/05/image-2-copyright.jpg
END:VEVENT
BEGIN:VEVENT
DTSTART;TZID=America/Chicago:20221215T170000
DTEND;TZID=America/Chicago:20221215T210000
DTSTAMP:20260425T115234
CREATED:20221215T213750Z
LAST-MODIFIED:20221215T213750Z
UID:3023-1671123600-1671138000@liveinlosbarriles.com
SUMMARY:Fresh Oysters!!
DESCRIPTION:Enjoy our fresh oysters from Ensenada accompanied by red wine vinegar and horseradish!! \nWith a variety of salsas and four styles to choose from; Rockefeller\, Garlic and Butter\, Diabla and Migionette\, \nCome give them a try while they last!!
URL:https://liveinlosbarriles.com/event/fresh-oysters/
LOCATION:Willy’s Bar & Grill
CATEGORIES:Dining
ATTACH;FMTTYPE=image/jpeg:https://liveinlosbarriles.com/wp-content/uploads/2018/05/61db344441fc3.image_-1.jpg
END:VEVENT
BEGIN:VEVENT
DTSTART;TZID=America/Chicago:20221208T183000
DTEND;TZID=America/Chicago:20221208T213000
DTSTAMP:20260425T115234
CREATED:20221215T213345Z
LAST-MODIFIED:20221215T213345Z
UID:3021-1670524200-1670535000@liveinlosbarriles.com
SUMMARY:Live Music with Av Chapultepec!
DESCRIPTION:Live Rock & Roll from La Paz! \nStarts at 6:30 pm.  Reservations 6241325419
URL:https://liveinlosbarriles.com/event/live-music-with-av-chapultepec/
LOCATION:Willy’s Bar & Grill
CATEGORIES:Live Music
ATTACH;FMTTYPE=image/jpeg:https://liveinlosbarriles.com/wp-content/uploads/2018/05/Av-Chapultepec.jpeg
END:VEVENT
END:VCALENDAR