BEGIN:VCALENDAR
VERSION:2.0
PRODID:-//Live in Los Barriles - ECPv6.15.3//NONSGML v1.0//EN
CALSCALE:GREGORIAN
METHOD:PUBLISH
X-WR-CALNAME:Live in Los Barriles
X-ORIGINAL-URL:https://liveinlosbarriles.com
X-WR-CALDESC:Events for Live in Los Barriles
REFRESH-INTERVAL;VALUE=DURATION:PT1H
X-Robots-Tag:noindex
X-PUBLISHED-TTL:PT1H
BEGIN:VTIMEZONE
TZID:America/Chicago
BEGIN:DAYLIGHT
TZOFFSETFROM:-0600
TZOFFSETTO:-0500
TZNAME:CDT
DTSTART:20250309T080000
END:DAYLIGHT
BEGIN:STANDARD
TZOFFSETFROM:-0500
TZOFFSETTO:-0600
TZNAME:CST
DTSTART:20251102T070000
END:STANDARD
BEGIN:DAYLIGHT
TZOFFSETFROM:-0600
TZOFFSETTO:-0500
TZNAME:CDT
DTSTART:20260308T080000
END:DAYLIGHT
BEGIN:STANDARD
TZOFFSETFROM:-0500
TZOFFSETTO:-0600
TZNAME:CST
DTSTART:20261101T070000
END:STANDARD
END:VTIMEZONE
BEGIN:VEVENT
DTSTART;TZID=America/Chicago:20260101T180000
DTEND;TZID=America/Chicago:20260101T210000
DTSTAMP:20260423T181659
CREATED:20230121T190029Z
LAST-MODIFIED:20230121T190029Z
UID:3569-1767290400-1767301200@liveinlosbarriles.com
SUMMARY:Thursday of music and memories
DESCRIPTION:Come and enjoy a wide variety of music and songs from diferents times. Alvert and Chello bring you memories of many Decades with with authentic Italian food.
URL:https://liveinlosbarriles.com/event/thursday-of-music-and-memories-2026-01-01/
LOCATION:Pizzas Don Roberto\, Carretera Transpeninsular en frente a la fuente los Barriles\, Los Barriles\, BCS\, 23300\, Mexico
ATTACH;FMTTYPE=image/jpeg:https://liveinlosbarriles.com/wp-content/uploads/2023/01/59469EBF-A23C-4976-AABC-2B94F32675D1.jpeg
END:VEVENT
BEGIN:VEVENT
DTSTART;TZID=America/Chicago:20251225T180000
DTEND;TZID=America/Chicago:20251225T210000
DTSTAMP:20260423T181659
CREATED:20230121T190029Z
LAST-MODIFIED:20230121T190029Z
UID:3568-1766685600-1766696400@liveinlosbarriles.com
SUMMARY:Thursday of music and memories
DESCRIPTION:Come and enjoy a wide variety of music and songs from diferents times. Alvert and Chello bring you memories of many Decades with with authentic Italian food.
URL:https://liveinlosbarriles.com/event/thursday-of-music-and-memories-2025-12-25/
LOCATION:Pizzas Don Roberto\, Carretera Transpeninsular en frente a la fuente los Barriles\, Los Barriles\, BCS\, 23300\, Mexico
ATTACH;FMTTYPE=image/jpeg:https://liveinlosbarriles.com/wp-content/uploads/2023/01/59469EBF-A23C-4976-AABC-2B94F32675D1.jpeg
END:VEVENT
BEGIN:VEVENT
DTSTART;TZID=America/Chicago:20251218T180000
DTEND;TZID=America/Chicago:20251218T210000
DTSTAMP:20260423T181659
CREATED:20230121T190029Z
LAST-MODIFIED:20230121T190029Z
UID:3560-1766080800-1766091600@liveinlosbarriles.com
SUMMARY:Thursday of music and memories
DESCRIPTION:Come and enjoy a wide variety of music and songs from diferents times. Alvert and Chello bring you memories of many Decades with with authentic Italian food.
URL:https://liveinlosbarriles.com/event/thursday-of-music-and-memories-2025-12-18/
LOCATION:Pizzas Don Roberto\, Carretera Transpeninsular en frente a la fuente los Barriles\, Los Barriles\, BCS\, 23300\, Mexico
ATTACH;FMTTYPE=image/jpeg:https://liveinlosbarriles.com/wp-content/uploads/2023/01/59469EBF-A23C-4976-AABC-2B94F32675D1.jpeg
END:VEVENT
BEGIN:VEVENT
DTSTART;TZID=America/Chicago:20251211T180000
DTEND;TZID=America/Chicago:20251211T210000
DTSTAMP:20260423T181659
CREATED:20230121T190029Z
LAST-MODIFIED:20230121T190029Z
UID:3558-1765476000-1765486800@liveinlosbarriles.com
SUMMARY:Thursday of music and memories
DESCRIPTION:Come and enjoy a wide variety of music and songs from diferents times. Alvert and Chello bring you memories of many Decades with with authentic Italian food.
URL:https://liveinlosbarriles.com/event/thursday-of-music-and-memories-2025-12-11/
LOCATION:Pizzas Don Roberto\, Carretera Transpeninsular en frente a la fuente los Barriles\, Los Barriles\, BCS\, 23300\, Mexico
ATTACH;FMTTYPE=image/jpeg:https://liveinlosbarriles.com/wp-content/uploads/2023/01/59469EBF-A23C-4976-AABC-2B94F32675D1.jpeg
END:VEVENT
BEGIN:VEVENT
DTSTART;TZID=America/Chicago:20251204T180000
DTEND;TZID=America/Chicago:20251204T210000
DTSTAMP:20260423T181659
CREATED:20230121T190029Z
LAST-MODIFIED:20230121T190029Z
UID:3555-1764871200-1764882000@liveinlosbarriles.com
SUMMARY:Thursday of music and memories
DESCRIPTION:Come and enjoy a wide variety of music and songs from diferents times. Alvert and Chello bring you memories of many Decades with with authentic Italian food.
URL:https://liveinlosbarriles.com/event/thursday-of-music-and-memories-2025-12-04/
LOCATION:Pizzas Don Roberto\, Carretera Transpeninsular en frente a la fuente los Barriles\, Los Barriles\, BCS\, 23300\, Mexico
ATTACH;FMTTYPE=image/jpeg:https://liveinlosbarriles.com/wp-content/uploads/2023/01/59469EBF-A23C-4976-AABC-2B94F32675D1.jpeg
END:VEVENT
BEGIN:VEVENT
DTSTART;TZID=America/Chicago:20251127T180000
DTEND;TZID=America/Chicago:20251127T210000
DTSTAMP:20260423T181659
CREATED:20230121T190029Z
LAST-MODIFIED:20230121T190029Z
UID:3550-1764266400-1764277200@liveinlosbarriles.com
SUMMARY:Thursday of music and memories
DESCRIPTION:Come and enjoy a wide variety of music and songs from diferents times. Alvert and Chello bring you memories of many Decades with with authentic Italian food.
URL:https://liveinlosbarriles.com/event/thursday-of-music-and-memories-2025-11-27/
LOCATION:Pizzas Don Roberto\, Carretera Transpeninsular en frente a la fuente los Barriles\, Los Barriles\, BCS\, 23300\, Mexico
ATTACH;FMTTYPE=image/jpeg:https://liveinlosbarriles.com/wp-content/uploads/2023/01/59469EBF-A23C-4976-AABC-2B94F32675D1.jpeg
END:VEVENT
BEGIN:VEVENT
DTSTART;TZID=America/Chicago:20251120T180000
DTEND;TZID=America/Chicago:20251120T210000
DTSTAMP:20260423T181659
CREATED:20230121T190029Z
LAST-MODIFIED:20230121T190029Z
UID:3546-1763661600-1763672400@liveinlosbarriles.com
SUMMARY:Thursday of music and memories
DESCRIPTION:Come and enjoy a wide variety of music and songs from diferents times. Alvert and Chello bring you memories of many Decades with with authentic Italian food.
URL:https://liveinlosbarriles.com/event/thursday-of-music-and-memories-2025-11-20/
LOCATION:Pizzas Don Roberto\, Carretera Transpeninsular en frente a la fuente los Barriles\, Los Barriles\, BCS\, 23300\, Mexico
ATTACH;FMTTYPE=image/jpeg:https://liveinlosbarriles.com/wp-content/uploads/2023/01/59469EBF-A23C-4976-AABC-2B94F32675D1.jpeg
END:VEVENT
BEGIN:VEVENT
DTSTART;TZID=America/Chicago:20251113T180000
DTEND;TZID=America/Chicago:20251113T210000
DTSTAMP:20260423T181659
CREATED:20230121T190029Z
LAST-MODIFIED:20230121T190029Z
UID:3539-1763056800-1763067600@liveinlosbarriles.com
SUMMARY:Thursday of music and memories
DESCRIPTION:Come and enjoy a wide variety of music and songs from diferents times. Alvert and Chello bring you memories of many Decades with with authentic Italian food.
URL:https://liveinlosbarriles.com/event/thursday-of-music-and-memories-2025-11-13/
LOCATION:Pizzas Don Roberto\, Carretera Transpeninsular en frente a la fuente los Barriles\, Los Barriles\, BCS\, 23300\, Mexico
ATTACH;FMTTYPE=image/jpeg:https://liveinlosbarriles.com/wp-content/uploads/2023/01/59469EBF-A23C-4976-AABC-2B94F32675D1.jpeg
END:VEVENT
BEGIN:VEVENT
DTSTART;TZID=America/Chicago:20251106T180000
DTEND;TZID=America/Chicago:20251106T210000
DTSTAMP:20260423T181659
CREATED:20230121T190029Z
LAST-MODIFIED:20230121T190029Z
UID:3533-1762452000-1762462800@liveinlosbarriles.com
SUMMARY:Thursday of music and memories
DESCRIPTION:Come and enjoy a wide variety of music and songs from diferents times. Alvert and Chello bring you memories of many Decades with with authentic Italian food.
URL:https://liveinlosbarriles.com/event/thursday-of-music-and-memories-2025-11-06/
LOCATION:Pizzas Don Roberto\, Carretera Transpeninsular en frente a la fuente los Barriles\, Los Barriles\, BCS\, 23300\, Mexico
ATTACH;FMTTYPE=image/jpeg:https://liveinlosbarriles.com/wp-content/uploads/2023/01/59469EBF-A23C-4976-AABC-2B94F32675D1.jpeg
END:VEVENT
BEGIN:VEVENT
DTSTART;TZID=America/Chicago:20251030T180000
DTEND;TZID=America/Chicago:20251030T210000
DTSTAMP:20260423T181659
CREATED:20230121T190029Z
LAST-MODIFIED:20230121T190029Z
UID:3529-1761847200-1761858000@liveinlosbarriles.com
SUMMARY:Thursday of music and memories
DESCRIPTION:Come and enjoy a wide variety of music and songs from diferents times. Alvert and Chello bring you memories of many Decades with with authentic Italian food.
URL:https://liveinlosbarriles.com/event/thursday-of-music-and-memories-2025-10-30/
LOCATION:Pizzas Don Roberto\, Carretera Transpeninsular en frente a la fuente los Barriles\, Los Barriles\, BCS\, 23300\, Mexico
ATTACH;FMTTYPE=image/jpeg:https://liveinlosbarriles.com/wp-content/uploads/2023/01/59469EBF-A23C-4976-AABC-2B94F32675D1.jpeg
END:VEVENT
BEGIN:VEVENT
DTSTART;TZID=America/Chicago:20251023T180000
DTEND;TZID=America/Chicago:20251023T210000
DTSTAMP:20260423T181659
CREATED:20230121T190029Z
LAST-MODIFIED:20230121T190029Z
UID:3525-1761242400-1761253200@liveinlosbarriles.com
SUMMARY:Thursday of music and memories
DESCRIPTION:Come and enjoy a wide variety of music and songs from diferents times. Alvert and Chello bring you memories of many Decades with with authentic Italian food.
URL:https://liveinlosbarriles.com/event/thursday-of-music-and-memories-2025-10-23/
LOCATION:Pizzas Don Roberto\, Carretera Transpeninsular en frente a la fuente los Barriles\, Los Barriles\, BCS\, 23300\, Mexico
ATTACH;FMTTYPE=image/jpeg:https://liveinlosbarriles.com/wp-content/uploads/2023/01/59469EBF-A23C-4976-AABC-2B94F32675D1.jpeg
END:VEVENT
BEGIN:VEVENT
DTSTART;TZID=America/Chicago:20251016T180000
DTEND;TZID=America/Chicago:20251016T210000
DTSTAMP:20260423T181659
CREATED:20230121T190029Z
LAST-MODIFIED:20230121T190029Z
UID:3521-1760637600-1760648400@liveinlosbarriles.com
SUMMARY:Thursday of music and memories
DESCRIPTION:Come and enjoy a wide variety of music and songs from diferents times. Alvert and Chello bring you memories of many Decades with with authentic Italian food.
URL:https://liveinlosbarriles.com/event/thursday-of-music-and-memories-2025-10-16/
LOCATION:Pizzas Don Roberto\, Carretera Transpeninsular en frente a la fuente los Barriles\, Los Barriles\, BCS\, 23300\, Mexico
ATTACH;FMTTYPE=image/jpeg:https://liveinlosbarriles.com/wp-content/uploads/2023/01/59469EBF-A23C-4976-AABC-2B94F32675D1.jpeg
END:VEVENT
BEGIN:VEVENT
DTSTART;TZID=America/Chicago:20251009T180000
DTEND;TZID=America/Chicago:20251009T210000
DTSTAMP:20260423T181659
CREATED:20230121T190029Z
LAST-MODIFIED:20230121T190029Z
UID:3514-1760032800-1760043600@liveinlosbarriles.com
SUMMARY:Thursday of music and memories
DESCRIPTION:Come and enjoy a wide variety of music and songs from diferents times. Alvert and Chello bring you memories of many Decades with with authentic Italian food.
URL:https://liveinlosbarriles.com/event/thursday-of-music-and-memories-2025-10-09/
LOCATION:Pizzas Don Roberto\, Carretera Transpeninsular en frente a la fuente los Barriles\, Los Barriles\, BCS\, 23300\, Mexico
ATTACH;FMTTYPE=image/jpeg:https://liveinlosbarriles.com/wp-content/uploads/2023/01/59469EBF-A23C-4976-AABC-2B94F32675D1.jpeg
END:VEVENT
BEGIN:VEVENT
DTSTART;TZID=America/Chicago:20251002T180000
DTEND;TZID=America/Chicago:20251002T210000
DTSTAMP:20260423T181659
CREATED:20230121T190029Z
LAST-MODIFIED:20230121T190029Z
UID:3510-1759428000-1759438800@liveinlosbarriles.com
SUMMARY:Thursday of music and memories
DESCRIPTION:Come and enjoy a wide variety of music and songs from diferents times. Alvert and Chello bring you memories of many Decades with with authentic Italian food.
URL:https://liveinlosbarriles.com/event/thursday-of-music-and-memories-2025-10-02/
LOCATION:Pizzas Don Roberto\, Carretera Transpeninsular en frente a la fuente los Barriles\, Los Barriles\, BCS\, 23300\, Mexico
ATTACH;FMTTYPE=image/jpeg:https://liveinlosbarriles.com/wp-content/uploads/2023/01/59469EBF-A23C-4976-AABC-2B94F32675D1.jpeg
END:VEVENT
BEGIN:VEVENT
DTSTART;TZID=America/Chicago:20250925T180000
DTEND;TZID=America/Chicago:20250925T210000
DTSTAMP:20260423T181659
CREATED:20230121T190029Z
LAST-MODIFIED:20230121T190029Z
UID:3507-1758823200-1758834000@liveinlosbarriles.com
SUMMARY:Thursday of music and memories
DESCRIPTION:Come and enjoy a wide variety of music and songs from diferents times. Alvert and Chello bring you memories of many Decades with with authentic Italian food.
URL:https://liveinlosbarriles.com/event/thursday-of-music-and-memories-2025-09-25/
LOCATION:Pizzas Don Roberto\, Carretera Transpeninsular en frente a la fuente los Barriles\, Los Barriles\, BCS\, 23300\, Mexico
ATTACH;FMTTYPE=image/jpeg:https://liveinlosbarriles.com/wp-content/uploads/2023/01/59469EBF-A23C-4976-AABC-2B94F32675D1.jpeg
END:VEVENT
BEGIN:VEVENT
DTSTART;TZID=America/Chicago:20250918T180000
DTEND;TZID=America/Chicago:20250918T210000
DTSTAMP:20260423T181659
CREATED:20230121T190029Z
LAST-MODIFIED:20230121T190029Z
UID:3505-1758218400-1758229200@liveinlosbarriles.com
SUMMARY:Thursday of music and memories
DESCRIPTION:Come and enjoy a wide variety of music and songs from diferents times. Alvert and Chello bring you memories of many Decades with with authentic Italian food.
URL:https://liveinlosbarriles.com/event/thursday-of-music-and-memories-2025-09-18/
LOCATION:Pizzas Don Roberto\, Carretera Transpeninsular en frente a la fuente los Barriles\, Los Barriles\, BCS\, 23300\, Mexico
ATTACH;FMTTYPE=image/jpeg:https://liveinlosbarriles.com/wp-content/uploads/2023/01/59469EBF-A23C-4976-AABC-2B94F32675D1.jpeg
END:VEVENT
BEGIN:VEVENT
DTSTART;TZID=America/Chicago:20250911T180000
DTEND;TZID=America/Chicago:20250911T210000
DTSTAMP:20260423T181659
CREATED:20230121T190029Z
LAST-MODIFIED:20230121T190029Z
UID:3500-1757613600-1757624400@liveinlosbarriles.com
SUMMARY:Thursday of music and memories
DESCRIPTION:Come and enjoy a wide variety of music and songs from diferents times. Alvert and Chello bring you memories of many Decades with with authentic Italian food.
URL:https://liveinlosbarriles.com/event/thursday-of-music-and-memories-2025-09-11/
LOCATION:Pizzas Don Roberto\, Carretera Transpeninsular en frente a la fuente los Barriles\, Los Barriles\, BCS\, 23300\, Mexico
ATTACH;FMTTYPE=image/jpeg:https://liveinlosbarriles.com/wp-content/uploads/2023/01/59469EBF-A23C-4976-AABC-2B94F32675D1.jpeg
END:VEVENT
BEGIN:VEVENT
DTSTART;TZID=America/Chicago:20250904T180000
DTEND;TZID=America/Chicago:20250904T210000
DTSTAMP:20260423T181659
CREATED:20230121T190029Z
LAST-MODIFIED:20230121T190029Z
UID:3497-1757008800-1757019600@liveinlosbarriles.com
SUMMARY:Thursday of music and memories
DESCRIPTION:Come and enjoy a wide variety of music and songs from diferents times. Alvert and Chello bring you memories of many Decades with with authentic Italian food.
URL:https://liveinlosbarriles.com/event/thursday-of-music-and-memories-2025-09-04/
LOCATION:Pizzas Don Roberto\, Carretera Transpeninsular en frente a la fuente los Barriles\, Los Barriles\, BCS\, 23300\, Mexico
ATTACH;FMTTYPE=image/jpeg:https://liveinlosbarriles.com/wp-content/uploads/2023/01/59469EBF-A23C-4976-AABC-2B94F32675D1.jpeg
END:VEVENT
BEGIN:VEVENT
DTSTART;TZID=America/Chicago:20250828T180000
DTEND;TZID=America/Chicago:20250828T210000
DTSTAMP:20260423T181659
CREATED:20230121T190029Z
LAST-MODIFIED:20230121T190029Z
UID:3488-1756404000-1756414800@liveinlosbarriles.com
SUMMARY:Thursday of music and memories
DESCRIPTION:Come and enjoy a wide variety of music and songs from diferents times. Alvert and Chello bring you memories of many Decades with with authentic Italian food.
URL:https://liveinlosbarriles.com/event/thursday-of-music-and-memories-2025-08-28/
LOCATION:Pizzas Don Roberto\, Carretera Transpeninsular en frente a la fuente los Barriles\, Los Barriles\, BCS\, 23300\, Mexico
ATTACH;FMTTYPE=image/jpeg:https://liveinlosbarriles.com/wp-content/uploads/2023/01/59469EBF-A23C-4976-AABC-2B94F32675D1.jpeg
END:VEVENT
BEGIN:VEVENT
DTSTART;TZID=America/Chicago:20250821T180000
DTEND;TZID=America/Chicago:20250821T210000
DTSTAMP:20260423T181659
CREATED:20230121T190029Z
LAST-MODIFIED:20230121T190029Z
UID:3477-1755799200-1755810000@liveinlosbarriles.com
SUMMARY:Thursday of music and memories
DESCRIPTION:Come and enjoy a wide variety of music and songs from diferents times. Alvert and Chello bring you memories of many Decades with with authentic Italian food.
URL:https://liveinlosbarriles.com/event/thursday-of-music-and-memories-2025-08-21/
LOCATION:Pizzas Don Roberto\, Carretera Transpeninsular en frente a la fuente los Barriles\, Los Barriles\, BCS\, 23300\, Mexico
ATTACH;FMTTYPE=image/jpeg:https://liveinlosbarriles.com/wp-content/uploads/2023/01/59469EBF-A23C-4976-AABC-2B94F32675D1.jpeg
END:VEVENT
BEGIN:VEVENT
DTSTART;TZID=America/Chicago:20250814T180000
DTEND;TZID=America/Chicago:20250814T210000
DTSTAMP:20260423T181659
CREATED:20230121T190029Z
LAST-MODIFIED:20230121T190029Z
UID:3476-1755194400-1755205200@liveinlosbarriles.com
SUMMARY:Thursday of music and memories
DESCRIPTION:Come and enjoy a wide variety of music and songs from diferents times. Alvert and Chello bring you memories of many Decades with with authentic Italian food.
URL:https://liveinlosbarriles.com/event/thursday-of-music-and-memories-2025-08-14/
LOCATION:Pizzas Don Roberto\, Carretera Transpeninsular en frente a la fuente los Barriles\, Los Barriles\, BCS\, 23300\, Mexico
ATTACH;FMTTYPE=image/jpeg:https://liveinlosbarriles.com/wp-content/uploads/2023/01/59469EBF-A23C-4976-AABC-2B94F32675D1.jpeg
END:VEVENT
BEGIN:VEVENT
DTSTART;TZID=America/Chicago:20250807T180000
DTEND;TZID=America/Chicago:20250807T210000
DTSTAMP:20260423T181659
CREATED:20230121T190029Z
LAST-MODIFIED:20230121T190029Z
UID:3472-1754589600-1754600400@liveinlosbarriles.com
SUMMARY:Thursday of music and memories
DESCRIPTION:Come and enjoy a wide variety of music and songs from diferents times. Alvert and Chello bring you memories of many Decades with with authentic Italian food.
URL:https://liveinlosbarriles.com/event/thursday-of-music-and-memories-2025-08-07/
LOCATION:Pizzas Don Roberto\, Carretera Transpeninsular en frente a la fuente los Barriles\, Los Barriles\, BCS\, 23300\, Mexico
ATTACH;FMTTYPE=image/jpeg:https://liveinlosbarriles.com/wp-content/uploads/2023/01/59469EBF-A23C-4976-AABC-2B94F32675D1.jpeg
END:VEVENT
BEGIN:VEVENT
DTSTART;TZID=America/Chicago:20250731T180000
DTEND;TZID=America/Chicago:20250731T210000
DTSTAMP:20260423T181659
CREATED:20230121T190029Z
LAST-MODIFIED:20230121T190029Z
UID:3461-1753984800-1753995600@liveinlosbarriles.com
SUMMARY:Thursday of music and memories
DESCRIPTION:Come and enjoy a wide variety of music and songs from diferents times. Alvert and Chello bring you memories of many Decades with with authentic Italian food.
URL:https://liveinlosbarriles.com/event/thursday-of-music-and-memories-2025-07-31/
LOCATION:Pizzas Don Roberto\, Carretera Transpeninsular en frente a la fuente los Barriles\, Los Barriles\, BCS\, 23300\, Mexico
ATTACH;FMTTYPE=image/jpeg:https://liveinlosbarriles.com/wp-content/uploads/2023/01/59469EBF-A23C-4976-AABC-2B94F32675D1.jpeg
END:VEVENT
BEGIN:VEVENT
DTSTART;TZID=America/Chicago:20250724T180000
DTEND;TZID=America/Chicago:20250724T210000
DTSTAMP:20260423T181659
CREATED:20230121T190029Z
LAST-MODIFIED:20230121T190029Z
UID:3455-1753380000-1753390800@liveinlosbarriles.com
SUMMARY:Thursday of music and memories
DESCRIPTION:Come and enjoy a wide variety of music and songs from diferents times. Alvert and Chello bring you memories of many Decades with with authentic Italian food.
URL:https://liveinlosbarriles.com/event/thursday-of-music-and-memories-2025-07-24/
LOCATION:Pizzas Don Roberto\, Carretera Transpeninsular en frente a la fuente los Barriles\, Los Barriles\, BCS\, 23300\, Mexico
ATTACH;FMTTYPE=image/jpeg:https://liveinlosbarriles.com/wp-content/uploads/2023/01/59469EBF-A23C-4976-AABC-2B94F32675D1.jpeg
END:VEVENT
BEGIN:VEVENT
DTSTART;TZID=America/Chicago:20250717T180000
DTEND;TZID=America/Chicago:20250717T210000
DTSTAMP:20260423T181659
CREATED:20230121T190029Z
LAST-MODIFIED:20230121T190029Z
UID:3451-1752775200-1752786000@liveinlosbarriles.com
SUMMARY:Thursday of music and memories
DESCRIPTION:Come and enjoy a wide variety of music and songs from diferents times. Alvert and Chello bring you memories of many Decades with with authentic Italian food.
URL:https://liveinlosbarriles.com/event/thursday-of-music-and-memories-2025-07-17/
LOCATION:Pizzas Don Roberto\, Carretera Transpeninsular en frente a la fuente los Barriles\, Los Barriles\, BCS\, 23300\, Mexico
ATTACH;FMTTYPE=image/jpeg:https://liveinlosbarriles.com/wp-content/uploads/2023/01/59469EBF-A23C-4976-AABC-2B94F32675D1.jpeg
END:VEVENT
BEGIN:VEVENT
DTSTART;TZID=America/Chicago:20250710T180000
DTEND;TZID=America/Chicago:20250710T210000
DTSTAMP:20260423T181659
CREATED:20230121T190029Z
LAST-MODIFIED:20230121T190029Z
UID:3441-1752170400-1752181200@liveinlosbarriles.com
SUMMARY:Thursday of music and memories
DESCRIPTION:Come and enjoy a wide variety of music and songs from diferents times. Alvert and Chello bring you memories of many Decades with with authentic Italian food.
URL:https://liveinlosbarriles.com/event/thursday-of-music-and-memories-2025-07-10/
LOCATION:Pizzas Don Roberto\, Carretera Transpeninsular en frente a la fuente los Barriles\, Los Barriles\, BCS\, 23300\, Mexico
ATTACH;FMTTYPE=image/jpeg:https://liveinlosbarriles.com/wp-content/uploads/2023/01/59469EBF-A23C-4976-AABC-2B94F32675D1.jpeg
END:VEVENT
BEGIN:VEVENT
DTSTART;TZID=America/Chicago:20250703T180000
DTEND;TZID=America/Chicago:20250703T210000
DTSTAMP:20260423T181659
CREATED:20230121T190029Z
LAST-MODIFIED:20230121T190029Z
UID:3438-1751565600-1751576400@liveinlosbarriles.com
SUMMARY:Thursday of music and memories
DESCRIPTION:Come and enjoy a wide variety of music and songs from diferents times. Alvert and Chello bring you memories of many Decades with with authentic Italian food.
URL:https://liveinlosbarriles.com/event/thursday-of-music-and-memories-2025-07-03/
LOCATION:Pizzas Don Roberto\, Carretera Transpeninsular en frente a la fuente los Barriles\, Los Barriles\, BCS\, 23300\, Mexico
ATTACH;FMTTYPE=image/jpeg:https://liveinlosbarriles.com/wp-content/uploads/2023/01/59469EBF-A23C-4976-AABC-2B94F32675D1.jpeg
END:VEVENT
BEGIN:VEVENT
DTSTART;TZID=America/Chicago:20250626T180000
DTEND;TZID=America/Chicago:20250626T210000
DTSTAMP:20260423T181659
CREATED:20230121T190029Z
LAST-MODIFIED:20230121T190029Z
UID:3436-1750960800-1750971600@liveinlosbarriles.com
SUMMARY:Thursday of music and memories
DESCRIPTION:Come and enjoy a wide variety of music and songs from diferents times. Alvert and Chello bring you memories of many Decades with with authentic Italian food.
URL:https://liveinlosbarriles.com/event/thursday-of-music-and-memories-2025-06-26/
LOCATION:Pizzas Don Roberto\, Carretera Transpeninsular en frente a la fuente los Barriles\, Los Barriles\, BCS\, 23300\, Mexico
ATTACH;FMTTYPE=image/jpeg:https://liveinlosbarriles.com/wp-content/uploads/2023/01/59469EBF-A23C-4976-AABC-2B94F32675D1.jpeg
END:VEVENT
BEGIN:VEVENT
DTSTART;TZID=America/Chicago:20250619T180000
DTEND;TZID=America/Chicago:20250619T210000
DTSTAMP:20260423T181659
CREATED:20230121T190029Z
LAST-MODIFIED:20230121T190029Z
UID:3434-1750356000-1750366800@liveinlosbarriles.com
SUMMARY:Thursday of music and memories
DESCRIPTION:Come and enjoy a wide variety of music and songs from diferents times. Alvert and Chello bring you memories of many Decades with with authentic Italian food.
URL:https://liveinlosbarriles.com/event/thursday-of-music-and-memories-2025-06-19/
LOCATION:Pizzas Don Roberto\, Carretera Transpeninsular en frente a la fuente los Barriles\, Los Barriles\, BCS\, 23300\, Mexico
ATTACH;FMTTYPE=image/jpeg:https://liveinlosbarriles.com/wp-content/uploads/2023/01/59469EBF-A23C-4976-AABC-2B94F32675D1.jpeg
END:VEVENT
BEGIN:VEVENT
DTSTART;TZID=America/Chicago:20250612T180000
DTEND;TZID=America/Chicago:20250612T210000
DTSTAMP:20260423T181659
CREATED:20230121T190029Z
LAST-MODIFIED:20230121T190029Z
UID:3431-1749751200-1749762000@liveinlosbarriles.com
SUMMARY:Thursday of music and memories
DESCRIPTION:Come and enjoy a wide variety of music and songs from diferents times. Alvert and Chello bring you memories of many Decades with with authentic Italian food.
URL:https://liveinlosbarriles.com/event/thursday-of-music-and-memories-2025-06-12/
LOCATION:Pizzas Don Roberto\, Carretera Transpeninsular en frente a la fuente los Barriles\, Los Barriles\, BCS\, 23300\, Mexico
ATTACH;FMTTYPE=image/jpeg:https://liveinlosbarriles.com/wp-content/uploads/2023/01/59469EBF-A23C-4976-AABC-2B94F32675D1.jpeg
END:VEVENT
END:VCALENDAR