BEGIN:VCALENDAR
VERSION:2.0
PRODID:-//Live in Los Barriles - ECPv6.15.3//NONSGML v1.0//EN
CALSCALE:GREGORIAN
METHOD:PUBLISH
X-ORIGINAL-URL:https://liveinlosbarriles.com
X-WR-CALDESC:Events for Live in Los Barriles
REFRESH-INTERVAL;VALUE=DURATION:PT1H
X-Robots-Tag:noindex
X-PUBLISHED-TTL:PT1H
BEGIN:VTIMEZONE
TZID:America/Chicago
BEGIN:DAYLIGHT
TZOFFSETFROM:-0600
TZOFFSETTO:-0500
TZNAME:CDT
DTSTART:20260308T080000
END:DAYLIGHT
BEGIN:STANDARD
TZOFFSETFROM:-0500
TZOFFSETTO:-0600
TZNAME:CST
DTSTART:20261101T070000
END:STANDARD
BEGIN:DAYLIGHT
TZOFFSETFROM:-0600
TZOFFSETTO:-0500
TZNAME:CDT
DTSTART:20270314T080000
END:DAYLIGHT
BEGIN:STANDARD
TZOFFSETFROM:-0500
TZOFFSETTO:-0600
TZNAME:CST
DTSTART:20271107T070000
END:STANDARD
END:VTIMEZONE
BEGIN:VEVENT
DTSTART;TZID=America/Chicago:20260820T180000
DTEND;TZID=America/Chicago:20260820T210000
DTSTAMP:20260423T192013
CREATED:20230121T190029Z
LAST-MODIFIED:20230121T190029Z
UID:3739-1787248800-1787259600@liveinlosbarriles.com
SUMMARY:Thursday of music and memories
DESCRIPTION:Come and enjoy a wide variety of music and songs from diferents times. Alvert and Chello bring you memories of many Decades with with authentic Italian food.
URL:https://liveinlosbarriles.com/event/thursday-of-music-and-memories-2026-08-20/
LOCATION:Pizzas Don Roberto\, Carretera Transpeninsular en frente a la fuente los Barriles\, Los Barriles\, BCS\, 23300\, Mexico
ATTACH;FMTTYPE=image/jpeg:https://liveinlosbarriles.com/wp-content/uploads/2023/01/59469EBF-A23C-4976-AABC-2B94F32675D1.jpeg
END:VEVENT
BEGIN:VEVENT
DTSTART;TZID=America/Chicago:20260827T180000
DTEND;TZID=America/Chicago:20260827T210000
DTSTAMP:20260423T192013
CREATED:20230121T190029Z
LAST-MODIFIED:20230121T190029Z
UID:3743-1787853600-1787864400@liveinlosbarriles.com
SUMMARY:Thursday of music and memories
DESCRIPTION:Come and enjoy a wide variety of music and songs from diferents times. Alvert and Chello bring you memories of many Decades with with authentic Italian food.
URL:https://liveinlosbarriles.com/event/thursday-of-music-and-memories-2026-08-27/
LOCATION:Pizzas Don Roberto\, Carretera Transpeninsular en frente a la fuente los Barriles\, Los Barriles\, BCS\, 23300\, Mexico
ATTACH;FMTTYPE=image/jpeg:https://liveinlosbarriles.com/wp-content/uploads/2023/01/59469EBF-A23C-4976-AABC-2B94F32675D1.jpeg
END:VEVENT
BEGIN:VEVENT
DTSTART;TZID=America/Chicago:20260903T180000
DTEND;TZID=America/Chicago:20260903T210000
DTSTAMP:20260423T192013
CREATED:20230121T190029Z
LAST-MODIFIED:20230121T190029Z
UID:3749-1788458400-1788469200@liveinlosbarriles.com
SUMMARY:Thursday of music and memories
DESCRIPTION:Come and enjoy a wide variety of music and songs from diferents times. Alvert and Chello bring you memories of many Decades with with authentic Italian food.
URL:https://liveinlosbarriles.com/event/thursday-of-music-and-memories-2026-09-03/
LOCATION:Pizzas Don Roberto\, Carretera Transpeninsular en frente a la fuente los Barriles\, Los Barriles\, BCS\, 23300\, Mexico
ATTACH;FMTTYPE=image/jpeg:https://liveinlosbarriles.com/wp-content/uploads/2023/01/59469EBF-A23C-4976-AABC-2B94F32675D1.jpeg
END:VEVENT
BEGIN:VEVENT
DTSTART;TZID=America/Chicago:20260910T180000
DTEND;TZID=America/Chicago:20260910T210000
DTSTAMP:20260423T192013
CREATED:20230121T190029Z
LAST-MODIFIED:20230121T190029Z
UID:3752-1789063200-1789074000@liveinlosbarriles.com
SUMMARY:Thursday of music and memories
DESCRIPTION:Come and enjoy a wide variety of music and songs from diferents times. Alvert and Chello bring you memories of many Decades with with authentic Italian food.
URL:https://liveinlosbarriles.com/event/thursday-of-music-and-memories-2026-09-10/
LOCATION:Pizzas Don Roberto\, Carretera Transpeninsular en frente a la fuente los Barriles\, Los Barriles\, BCS\, 23300\, Mexico
ATTACH;FMTTYPE=image/jpeg:https://liveinlosbarriles.com/wp-content/uploads/2023/01/59469EBF-A23C-4976-AABC-2B94F32675D1.jpeg
END:VEVENT
BEGIN:VEVENT
DTSTART;TZID=America/Chicago:20260917T180000
DTEND;TZID=America/Chicago:20260917T210000
DTSTAMP:20260423T192013
CREATED:20230121T190029Z
LAST-MODIFIED:20230121T190029Z
UID:3758-1789668000-1789678800@liveinlosbarriles.com
SUMMARY:Thursday of music and memories
DESCRIPTION:Come and enjoy a wide variety of music and songs from diferents times. Alvert and Chello bring you memories of many Decades with with authentic Italian food.
URL:https://liveinlosbarriles.com/event/thursday-of-music-and-memories-2026-09-17/
LOCATION:Pizzas Don Roberto\, Carretera Transpeninsular en frente a la fuente los Barriles\, Los Barriles\, BCS\, 23300\, Mexico
ATTACH;FMTTYPE=image/jpeg:https://liveinlosbarriles.com/wp-content/uploads/2023/01/59469EBF-A23C-4976-AABC-2B94F32675D1.jpeg
END:VEVENT
BEGIN:VEVENT
DTSTART;TZID=America/Chicago:20260924T180000
DTEND;TZID=America/Chicago:20260924T210000
DTSTAMP:20260423T192013
CREATED:20230121T190029Z
LAST-MODIFIED:20230121T190029Z
UID:3761-1790272800-1790283600@liveinlosbarriles.com
SUMMARY:Thursday of music and memories
DESCRIPTION:Come and enjoy a wide variety of music and songs from diferents times. Alvert and Chello bring you memories of many Decades with with authentic Italian food.
URL:https://liveinlosbarriles.com/event/thursday-of-music-and-memories-2026-09-24/
LOCATION:Pizzas Don Roberto\, Carretera Transpeninsular en frente a la fuente los Barriles\, Los Barriles\, BCS\, 23300\, Mexico
ATTACH;FMTTYPE=image/jpeg:https://liveinlosbarriles.com/wp-content/uploads/2023/01/59469EBF-A23C-4976-AABC-2B94F32675D1.jpeg
END:VEVENT
BEGIN:VEVENT
DTSTART;TZID=America/Chicago:20261001T180000
DTEND;TZID=America/Chicago:20261001T210000
DTSTAMP:20260423T192013
CREATED:20230121T190029Z
LAST-MODIFIED:20230121T190029Z
UID:3763-1790877600-1790888400@liveinlosbarriles.com
SUMMARY:Thursday of music and memories
DESCRIPTION:Come and enjoy a wide variety of music and songs from diferents times. Alvert and Chello bring you memories of many Decades with with authentic Italian food.
URL:https://liveinlosbarriles.com/event/thursday-of-music-and-memories-2026-10-01/
LOCATION:Pizzas Don Roberto\, Carretera Transpeninsular en frente a la fuente los Barriles\, Los Barriles\, BCS\, 23300\, Mexico
ATTACH;FMTTYPE=image/jpeg:https://liveinlosbarriles.com/wp-content/uploads/2023/01/59469EBF-A23C-4976-AABC-2B94F32675D1.jpeg
END:VEVENT
BEGIN:VEVENT
DTSTART;TZID=America/Chicago:20261008T180000
DTEND;TZID=America/Chicago:20261008T210000
DTSTAMP:20260423T192013
CREATED:20230121T190029Z
LAST-MODIFIED:20230121T190029Z
UID:3766-1791482400-1791493200@liveinlosbarriles.com
SUMMARY:Thursday of music and memories
DESCRIPTION:Come and enjoy a wide variety of music and songs from diferents times. Alvert and Chello bring you memories of many Decades with with authentic Italian food.
URL:https://liveinlosbarriles.com/event/thursday-of-music-and-memories-2026-10-08/
LOCATION:Pizzas Don Roberto\, Carretera Transpeninsular en frente a la fuente los Barriles\, Los Barriles\, BCS\, 23300\, Mexico
ATTACH;FMTTYPE=image/jpeg:https://liveinlosbarriles.com/wp-content/uploads/2023/01/59469EBF-A23C-4976-AABC-2B94F32675D1.jpeg
END:VEVENT
BEGIN:VEVENT
DTSTART;TZID=America/Chicago:20261015T180000
DTEND;TZID=America/Chicago:20261015T210000
DTSTAMP:20260423T192013
CREATED:20230121T190029Z
LAST-MODIFIED:20230121T190029Z
UID:3769-1792087200-1792098000@liveinlosbarriles.com
SUMMARY:Thursday of music and memories
DESCRIPTION:Come and enjoy a wide variety of music and songs from diferents times. Alvert and Chello bring you memories of many Decades with with authentic Italian food.
URL:https://liveinlosbarriles.com/event/thursday-of-music-and-memories-2026-10-15/
LOCATION:Pizzas Don Roberto\, Carretera Transpeninsular en frente a la fuente los Barriles\, Los Barriles\, BCS\, 23300\, Mexico
ATTACH;FMTTYPE=image/jpeg:https://liveinlosbarriles.com/wp-content/uploads/2023/01/59469EBF-A23C-4976-AABC-2B94F32675D1.jpeg
END:VEVENT
BEGIN:VEVENT
DTSTART;TZID=America/Chicago:20261022T180000
DTEND;TZID=America/Chicago:20261022T210000
DTSTAMP:20260423T192013
CREATED:20230121T190029Z
LAST-MODIFIED:20230121T190029Z
UID:3772-1792692000-1792702800@liveinlosbarriles.com
SUMMARY:Thursday of music and memories
DESCRIPTION:Come and enjoy a wide variety of music and songs from diferents times. Alvert and Chello bring you memories of many Decades with with authentic Italian food.
URL:https://liveinlosbarriles.com/event/thursday-of-music-and-memories-2026-10-22/
LOCATION:Pizzas Don Roberto\, Carretera Transpeninsular en frente a la fuente los Barriles\, Los Barriles\, BCS\, 23300\, Mexico
ATTACH;FMTTYPE=image/jpeg:https://liveinlosbarriles.com/wp-content/uploads/2023/01/59469EBF-A23C-4976-AABC-2B94F32675D1.jpeg
END:VEVENT
BEGIN:VEVENT
DTSTART;TZID=America/Chicago:20261029T180000
DTEND;TZID=America/Chicago:20261029T210000
DTSTAMP:20260423T192013
CREATED:20230121T190029Z
LAST-MODIFIED:20230121T190029Z
UID:3776-1793296800-1793307600@liveinlosbarriles.com
SUMMARY:Thursday of music and memories
DESCRIPTION:Come and enjoy a wide variety of music and songs from diferents times. Alvert and Chello bring you memories of many Decades with with authentic Italian food.
URL:https://liveinlosbarriles.com/event/thursday-of-music-and-memories-2026-10-29/
LOCATION:Pizzas Don Roberto\, Carretera Transpeninsular en frente a la fuente los Barriles\, Los Barriles\, BCS\, 23300\, Mexico
ATTACH;FMTTYPE=image/jpeg:https://liveinlosbarriles.com/wp-content/uploads/2023/01/59469EBF-A23C-4976-AABC-2B94F32675D1.jpeg
END:VEVENT
BEGIN:VEVENT
DTSTART;TZID=America/Chicago:20261105T180000
DTEND;TZID=America/Chicago:20261105T210000
DTSTAMP:20260423T192013
CREATED:20230121T190029Z
LAST-MODIFIED:20230121T190029Z
UID:3781-1793901600-1793912400@liveinlosbarriles.com
SUMMARY:Thursday of music and memories
DESCRIPTION:Come and enjoy a wide variety of music and songs from diferents times. Alvert and Chello bring you memories of many Decades with with authentic Italian food.
URL:https://liveinlosbarriles.com/event/thursday-of-music-and-memories-2026-11-05/
LOCATION:Pizzas Don Roberto\, Carretera Transpeninsular en frente a la fuente los Barriles\, Los Barriles\, BCS\, 23300\, Mexico
ATTACH;FMTTYPE=image/jpeg:https://liveinlosbarriles.com/wp-content/uploads/2023/01/59469EBF-A23C-4976-AABC-2B94F32675D1.jpeg
END:VEVENT
BEGIN:VEVENT
DTSTART;TZID=America/Chicago:20261112T180000
DTEND;TZID=America/Chicago:20261112T210000
DTSTAMP:20260423T192013
CREATED:20230121T190029Z
LAST-MODIFIED:20230121T190029Z
UID:3786-1794506400-1794517200@liveinlosbarriles.com
SUMMARY:Thursday of music and memories
DESCRIPTION:Come and enjoy a wide variety of music and songs from diferents times. Alvert and Chello bring you memories of many Decades with with authentic Italian food.
URL:https://liveinlosbarriles.com/event/thursday-of-music-and-memories-2026-11-12/
LOCATION:Pizzas Don Roberto\, Carretera Transpeninsular en frente a la fuente los Barriles\, Los Barriles\, BCS\, 23300\, Mexico
ATTACH;FMTTYPE=image/jpeg:https://liveinlosbarriles.com/wp-content/uploads/2023/01/59469EBF-A23C-4976-AABC-2B94F32675D1.jpeg
END:VEVENT
BEGIN:VEVENT
DTSTART;TZID=America/Chicago:20261119T180000
DTEND;TZID=America/Chicago:20261119T210000
DTSTAMP:20260423T192013
CREATED:20230121T190029Z
LAST-MODIFIED:20230121T190029Z
UID:3798-1795111200-1795122000@liveinlosbarriles.com
SUMMARY:Thursday of music and memories
DESCRIPTION:Come and enjoy a wide variety of music and songs from diferents times. Alvert and Chello bring you memories of many Decades with with authentic Italian food.
URL:https://liveinlosbarriles.com/event/thursday-of-music-and-memories-2026-11-19/
LOCATION:Pizzas Don Roberto\, Carretera Transpeninsular en frente a la fuente los Barriles\, Los Barriles\, BCS\, 23300\, Mexico
ATTACH;FMTTYPE=image/jpeg:https://liveinlosbarriles.com/wp-content/uploads/2023/01/59469EBF-A23C-4976-AABC-2B94F32675D1.jpeg
END:VEVENT
BEGIN:VEVENT
DTSTART;TZID=America/Chicago:20261126T180000
DTEND;TZID=America/Chicago:20261126T210000
DTSTAMP:20260423T192013
CREATED:20230121T190029Z
LAST-MODIFIED:20230121T190029Z
UID:3804-1795716000-1795726800@liveinlosbarriles.com
SUMMARY:Thursday of music and memories
DESCRIPTION:Come and enjoy a wide variety of music and songs from diferents times. Alvert and Chello bring you memories of many Decades with with authentic Italian food.
URL:https://liveinlosbarriles.com/event/thursday-of-music-and-memories-2026-11-26/
LOCATION:Pizzas Don Roberto\, Carretera Transpeninsular en frente a la fuente los Barriles\, Los Barriles\, BCS\, 23300\, Mexico
ATTACH;FMTTYPE=image/jpeg:https://liveinlosbarriles.com/wp-content/uploads/2023/01/59469EBF-A23C-4976-AABC-2B94F32675D1.jpeg
END:VEVENT
BEGIN:VEVENT
DTSTART;TZID=America/Chicago:20261203T180000
DTEND;TZID=America/Chicago:20261203T210000
DTSTAMP:20260423T192013
CREATED:20230121T190029Z
LAST-MODIFIED:20230121T190029Z
UID:3812-1796320800-1796331600@liveinlosbarriles.com
SUMMARY:Thursday of music and memories
DESCRIPTION:Come and enjoy a wide variety of music and songs from diferents times. Alvert and Chello bring you memories of many Decades with with authentic Italian food.
URL:https://liveinlosbarriles.com/event/thursday-of-music-and-memories-2026-12-03/
LOCATION:Pizzas Don Roberto\, Carretera Transpeninsular en frente a la fuente los Barriles\, Los Barriles\, BCS\, 23300\, Mexico
ATTACH;FMTTYPE=image/jpeg:https://liveinlosbarriles.com/wp-content/uploads/2023/01/59469EBF-A23C-4976-AABC-2B94F32675D1.jpeg
END:VEVENT
BEGIN:VEVENT
DTSTART;TZID=America/Chicago:20261210T180000
DTEND;TZID=America/Chicago:20261210T210000
DTSTAMP:20260423T192013
CREATED:20230121T190029Z
LAST-MODIFIED:20230121T190029Z
UID:3814-1796925600-1796936400@liveinlosbarriles.com
SUMMARY:Thursday of music and memories
DESCRIPTION:Come and enjoy a wide variety of music and songs from diferents times. Alvert and Chello bring you memories of many Decades with with authentic Italian food.
URL:https://liveinlosbarriles.com/event/thursday-of-music-and-memories-2026-12-10/
LOCATION:Pizzas Don Roberto\, Carretera Transpeninsular en frente a la fuente los Barriles\, Los Barriles\, BCS\, 23300\, Mexico
ATTACH;FMTTYPE=image/jpeg:https://liveinlosbarriles.com/wp-content/uploads/2023/01/59469EBF-A23C-4976-AABC-2B94F32675D1.jpeg
END:VEVENT
BEGIN:VEVENT
DTSTART;TZID=America/Chicago:20261217T180000
DTEND;TZID=America/Chicago:20261217T210000
DTSTAMP:20260423T192013
CREATED:20230121T190029Z
LAST-MODIFIED:20230121T190029Z
UID:3816-1797530400-1797541200@liveinlosbarriles.com
SUMMARY:Thursday of music and memories
DESCRIPTION:Come and enjoy a wide variety of music and songs from diferents times. Alvert and Chello bring you memories of many Decades with with authentic Italian food.
URL:https://liveinlosbarriles.com/event/thursday-of-music-and-memories-2026-12-17/
LOCATION:Pizzas Don Roberto\, Carretera Transpeninsular en frente a la fuente los Barriles\, Los Barriles\, BCS\, 23300\, Mexico
ATTACH;FMTTYPE=image/jpeg:https://liveinlosbarriles.com/wp-content/uploads/2023/01/59469EBF-A23C-4976-AABC-2B94F32675D1.jpeg
END:VEVENT
BEGIN:VEVENT
DTSTART;TZID=America/Chicago:20261224T180000
DTEND;TZID=America/Chicago:20261224T210000
DTSTAMP:20260423T192013
CREATED:20230121T190029Z
LAST-MODIFIED:20230121T190029Z
UID:3819-1798135200-1798146000@liveinlosbarriles.com
SUMMARY:Thursday of music and memories
DESCRIPTION:Come and enjoy a wide variety of music and songs from diferents times. Alvert and Chello bring you memories of many Decades with with authentic Italian food.
URL:https://liveinlosbarriles.com/event/thursday-of-music-and-memories-2026-12-24/
LOCATION:Pizzas Don Roberto\, Carretera Transpeninsular en frente a la fuente los Barriles\, Los Barriles\, BCS\, 23300\, Mexico
ATTACH;FMTTYPE=image/jpeg:https://liveinlosbarriles.com/wp-content/uploads/2023/01/59469EBF-A23C-4976-AABC-2B94F32675D1.jpeg
END:VEVENT
BEGIN:VEVENT
DTSTART;TZID=America/Chicago:20261231T180000
DTEND;TZID=America/Chicago:20261231T210000
DTSTAMP:20260423T192013
CREATED:20230121T190029Z
LAST-MODIFIED:20230121T190029Z
UID:3824-1798740000-1798750800@liveinlosbarriles.com
SUMMARY:Thursday of music and memories
DESCRIPTION:Come and enjoy a wide variety of music and songs from diferents times. Alvert and Chello bring you memories of many Decades with with authentic Italian food.
URL:https://liveinlosbarriles.com/event/thursday-of-music-and-memories-2026-12-31/
LOCATION:Pizzas Don Roberto\, Carretera Transpeninsular en frente a la fuente los Barriles\, Los Barriles\, BCS\, 23300\, Mexico
ATTACH;FMTTYPE=image/jpeg:https://liveinlosbarriles.com/wp-content/uploads/2023/01/59469EBF-A23C-4976-AABC-2B94F32675D1.jpeg
END:VEVENT
BEGIN:VEVENT
DTSTART;TZID=America/Chicago:20270107T180000
DTEND;TZID=America/Chicago:20270107T210000
DTSTAMP:20260423T192013
CREATED:20230121T190029Z
LAST-MODIFIED:20230121T190029Z
UID:3830-1799344800-1799355600@liveinlosbarriles.com
SUMMARY:Thursday of music and memories
DESCRIPTION:Come and enjoy a wide variety of music and songs from diferents times. Alvert and Chello bring you memories of many Decades with with authentic Italian food.
URL:https://liveinlosbarriles.com/event/thursday-of-music-and-memories-2027-01-07/
LOCATION:Pizzas Don Roberto\, Carretera Transpeninsular en frente a la fuente los Barriles\, Los Barriles\, BCS\, 23300\, Mexico
ATTACH;FMTTYPE=image/jpeg:https://liveinlosbarriles.com/wp-content/uploads/2023/01/59469EBF-A23C-4976-AABC-2B94F32675D1.jpeg
END:VEVENT
BEGIN:VEVENT
DTSTART;TZID=America/Chicago:20270114T180000
DTEND;TZID=America/Chicago:20270114T210000
DTSTAMP:20260423T192013
CREATED:20230121T190029Z
LAST-MODIFIED:20230121T190029Z
UID:3832-1799949600-1799960400@liveinlosbarriles.com
SUMMARY:Thursday of music and memories
DESCRIPTION:Come and enjoy a wide variety of music and songs from diferents times. Alvert and Chello bring you memories of many Decades with with authentic Italian food.
URL:https://liveinlosbarriles.com/event/thursday-of-music-and-memories-2027-01-14/
LOCATION:Pizzas Don Roberto\, Carretera Transpeninsular en frente a la fuente los Barriles\, Los Barriles\, BCS\, 23300\, Mexico
ATTACH;FMTTYPE=image/jpeg:https://liveinlosbarriles.com/wp-content/uploads/2023/01/59469EBF-A23C-4976-AABC-2B94F32675D1.jpeg
END:VEVENT
BEGIN:VEVENT
DTSTART;TZID=America/Chicago:20270121T180000
DTEND;TZID=America/Chicago:20270121T210000
DTSTAMP:20260423T192013
CREATED:20230121T190029Z
LAST-MODIFIED:20230121T190029Z
UID:3837-1800554400-1800565200@liveinlosbarriles.com
SUMMARY:Thursday of music and memories
DESCRIPTION:Come and enjoy a wide variety of music and songs from diferents times. Alvert and Chello bring you memories of many Decades with with authentic Italian food.
URL:https://liveinlosbarriles.com/event/thursday-of-music-and-memories-2027-01-21/
LOCATION:Pizzas Don Roberto\, Carretera Transpeninsular en frente a la fuente los Barriles\, Los Barriles\, BCS\, 23300\, Mexico
ATTACH;FMTTYPE=image/jpeg:https://liveinlosbarriles.com/wp-content/uploads/2023/01/59469EBF-A23C-4976-AABC-2B94F32675D1.jpeg
END:VEVENT
END:VCALENDAR