BEGIN:VCALENDAR
VERSION:2.0
PRODID:-//Live in Los Barriles - ECPv6.15.3//NONSGML v1.0//EN
CALSCALE:GREGORIAN
METHOD:PUBLISH
X-WR-CALNAME:Live in Los Barriles
X-ORIGINAL-URL:https://liveinlosbarriles.com
X-WR-CALDESC:Events for Live in Los Barriles
REFRESH-INTERVAL;VALUE=DURATION:PT1H
X-Robots-Tag:noindex
X-PUBLISHED-TTL:PT1H
BEGIN:VTIMEZONE
TZID:America/Chicago
BEGIN:DAYLIGHT
TZOFFSETFROM:-0600
TZOFFSETTO:-0500
TZNAME:CDT
DTSTART:20230312T080000
END:DAYLIGHT
BEGIN:STANDARD
TZOFFSETFROM:-0500
TZOFFSETTO:-0600
TZNAME:CST
DTSTART:20231105T070000
END:STANDARD
END:VTIMEZONE
BEGIN:VEVENT
DTSTART;TZID=America/Chicago:20230518T180000
DTEND;TZID=America/Chicago:20230518T210000
DTSTAMP:20260425T103627
CREATED:20230121T190042Z
LAST-MODIFIED:20230121T190042Z
UID:3227-1684432800-1684443600@liveinlosbarriles.com
SUMMARY:Thursday of music and memories
DESCRIPTION:Come and enjoy a wide variety of music and songs from diferents times. Alvert and Chello bring you memories of many Decades with with authentic Italian food.
URL:https://liveinlosbarriles.com/event/thursday-of-music-and-memories-2023-05-18/
LOCATION:Pizzas Don Roberto\, Carretera Transpeninsular en frente a la fuente los Barriles\, Los Barriles\, BCS\, 23300\, Mexico
ATTACH;FMTTYPE=image/jpeg:https://liveinlosbarriles.com/wp-content/uploads/2023/01/59469EBF-A23C-4976-AABC-2B94F32675D1.jpeg
END:VEVENT
BEGIN:VEVENT
DTSTART;TZID=America/Chicago:20230516T170000
DTEND;TZID=America/Chicago:20230516T210000
DTSTAMP:20260425T103627
CREATED:20221215T212006Z
LAST-MODIFIED:20221215T212006Z
UID:2975-1684256400-1684270800@liveinlosbarriles.com
SUMMARY:Taco Tuesday!
DESCRIPTION:It’s Taco Tuesday tonight 5pm-9pm at SweetPea’s! \nGrilled fresh yellowtail\, shrimp\, chicken or USDA steak with our special sriracha sauce! \nHappy hour 4pm-6pm 2×1 drink specials!!
URL:https://liveinlosbarriles.com/event/taco-tuesday-2023-05-16/
LOCATION:Sweetpea’s Tiki Bar & Grill
CATEGORIES:Dining,Drink Special
ATTACH;FMTTYPE=image/jpeg:https://liveinlosbarriles.com/wp-content/uploads/2022/12/Tacos.jpeg
END:VEVENT
BEGIN:VEVENT
DTSTART;TZID=America/Chicago:20230514T190000
DTEND;TZID=America/Chicago:20230514T210000
DTSTAMP:20260425T103627
CREATED:20221215T212559Z
LAST-MODIFIED:20221215T212559Z
UID:3009-1684090800-1684098000@liveinlosbarriles.com
SUMMARY:Name that Tune!
DESCRIPTION:Saturday Night Name That Tune! \nThe fun starts at 7pm with your host Tiki Joe! \nMake a reservation by email: sweetpeastikibar@gmail.com
URL:https://liveinlosbarriles.com/event/name-that-tune-2023-05-14/
LOCATION:Sweetpea’s Tiki Bar & Grill
CATEGORIES:Community Event
ATTACH;FMTTYPE=image/jpeg:https://liveinlosbarriles.com/wp-content/uploads/2022/12/Name-That-Tune.jpeg
END:VEVENT
BEGIN:VEVENT
DTSTART;TZID=America/Chicago:20230513T090000
DTEND;TZID=America/Chicago:20230513T140000
DTSTAMP:20260425T103627
CREATED:20221215T235858Z
LAST-MODIFIED:20221215T235858Z
UID:3083-1683968400-1683986400@liveinlosbarriles.com
SUMMARY:Farmer's Market @ Laguna Park
DESCRIPTION:Great selection of local foods\, produce\, drinks\, clothing\, jewelry and much more! \nCome support your community!
URL:https://liveinlosbarriles.com/event/farmers-market-laguna-park-2023-05-13/
LOCATION:Farmer’s Market
CATEGORIES:Community Event,Dining,Live Music,Shopping/Sale
ATTACH;FMTTYPE=image/jpeg:https://liveinlosbarriles.com/wp-content/uploads/2022/12/Farmers-Market.jpeg
END:VEVENT
BEGIN:VEVENT
DTSTART;TZID=America/Chicago:20230512T180000
DTEND;TZID=America/Chicago:20230512T210000
DTSTAMP:20260425T103627
CREATED:20221215T214523Z
LAST-MODIFIED:20221215T214523Z
UID:3048-1683914400-1683925200@liveinlosbarriles.com
SUMMARY:Live Music with Gatos Pardos
DESCRIPTION:Let’s Rock Every Friday! \nMusic from Led Zeppelin\, The Beatles\, CCR\, Deep Purple\, The Doors\, ZZ Top\, AC/DC and more!
URL:https://liveinlosbarriles.com/event/live-music-with-gatos-pardos-2023-05-12/
LOCATION:La Playa Restaurant & Bar
CATEGORIES:Live Music
ATTACH;FMTTYPE=image/jpeg:https://liveinlosbarriles.com/wp-content/uploads/2022/12/Gatos-Pardos-La-PLaya.jpeg
END:VEVENT
BEGIN:VEVENT
DTSTART;TZID=America/Chicago:20230511T183000
DTEND;TZID=America/Chicago:20230511T210000
DTSTAMP:20260425T103627
CREATED:20221215T210059Z
LAST-MODIFIED:20221215T210059Z
UID:2932-1683829800-1683838800@liveinlosbarriles.com
SUMMARY:Local Musicians Jam!
DESCRIPTION:Come support your talented friends & neighbors! Music starts at 6:30pm.
URL:https://liveinlosbarriles.com/event/local-musicians-jam-2023-05-11/
LOCATION:Sweetpea’s Tiki Bar & Grill
CATEGORIES:Live Music
ATTACH;FMTTYPE=image/jpeg:https://liveinlosbarriles.com/wp-content/uploads/2018/05/image-2-copyright.jpg
END:VEVENT
BEGIN:VEVENT
DTSTART;TZID=America/Chicago:20230511T180000
DTEND;TZID=America/Chicago:20230511T210000
DTSTAMP:20260425T103627
CREATED:20230121T190041Z
LAST-MODIFIED:20230121T190041Z
UID:3226-1683828000-1683838800@liveinlosbarriles.com
SUMMARY:Thursday of music and memories
DESCRIPTION:Come and enjoy a wide variety of music and songs from diferents times. Alvert and Chello bring you memories of many Decades with with authentic Italian food.
URL:https://liveinlosbarriles.com/event/thursday-of-music-and-memories-2023-05-11/
LOCATION:Pizzas Don Roberto\, Carretera Transpeninsular en frente a la fuente los Barriles\, Los Barriles\, BCS\, 23300\, Mexico
ATTACH;FMTTYPE=image/jpeg:https://liveinlosbarriles.com/wp-content/uploads/2023/01/59469EBF-A23C-4976-AABC-2B94F32675D1.jpeg
END:VEVENT
BEGIN:VEVENT
DTSTART;TZID=America/Chicago:20230509T170000
DTEND;TZID=America/Chicago:20230509T210000
DTSTAMP:20260425T103627
CREATED:20221215T212006Z
LAST-MODIFIED:20221215T212006Z
UID:2974-1683651600-1683666000@liveinlosbarriles.com
SUMMARY:Taco Tuesday!
DESCRIPTION:It’s Taco Tuesday tonight 5pm-9pm at SweetPea’s! \nGrilled fresh yellowtail\, shrimp\, chicken or USDA steak with our special sriracha sauce! \nHappy hour 4pm-6pm 2×1 drink specials!!
URL:https://liveinlosbarriles.com/event/taco-tuesday-2023-05-09/
LOCATION:Sweetpea’s Tiki Bar & Grill
CATEGORIES:Dining,Drink Special
ATTACH;FMTTYPE=image/jpeg:https://liveinlosbarriles.com/wp-content/uploads/2022/12/Tacos.jpeg
END:VEVENT
BEGIN:VEVENT
DTSTART;TZID=America/Chicago:20230507T190000
DTEND;TZID=America/Chicago:20230507T210000
DTSTAMP:20260425T103627
CREATED:20221215T212559Z
LAST-MODIFIED:20221215T212559Z
UID:3008-1683486000-1683493200@liveinlosbarriles.com
SUMMARY:Name that Tune!
DESCRIPTION:Saturday Night Name That Tune! \nThe fun starts at 7pm with your host Tiki Joe! \nMake a reservation by email: sweetpeastikibar@gmail.com
URL:https://liveinlosbarriles.com/event/name-that-tune-2023-05-07/
LOCATION:Sweetpea’s Tiki Bar & Grill
CATEGORIES:Community Event
ATTACH;FMTTYPE=image/jpeg:https://liveinlosbarriles.com/wp-content/uploads/2022/12/Name-That-Tune.jpeg
END:VEVENT
BEGIN:VEVENT
DTSTART;TZID=America/Chicago:20230506T090000
DTEND;TZID=America/Chicago:20230506T140000
DTSTAMP:20260425T103627
CREATED:20221215T235858Z
LAST-MODIFIED:20221215T235858Z
UID:3082-1683363600-1683381600@liveinlosbarriles.com
SUMMARY:Farmer's Market @ Laguna Park
DESCRIPTION:Great selection of local foods\, produce\, drinks\, clothing\, jewelry and much more! \nCome support your community!
URL:https://liveinlosbarriles.com/event/farmers-market-laguna-park-2023-05-06/
LOCATION:Farmer’s Market
CATEGORIES:Community Event,Dining,Live Music,Shopping/Sale
ATTACH;FMTTYPE=image/jpeg:https://liveinlosbarriles.com/wp-content/uploads/2022/12/Farmers-Market.jpeg
END:VEVENT
BEGIN:VEVENT
DTSTART;TZID=America/Chicago:20230505T180000
DTEND;TZID=America/Chicago:20230505T210000
DTSTAMP:20260425T103627
CREATED:20221215T214523Z
LAST-MODIFIED:20221215T214523Z
UID:3047-1683309600-1683320400@liveinlosbarriles.com
SUMMARY:Live Music with Gatos Pardos
DESCRIPTION:Let’s Rock Every Friday! \nMusic from Led Zeppelin\, The Beatles\, CCR\, Deep Purple\, The Doors\, ZZ Top\, AC/DC and more!
URL:https://liveinlosbarriles.com/event/live-music-with-gatos-pardos-2023-05-05/
LOCATION:La Playa Restaurant & Bar
CATEGORIES:Live Music
ATTACH;FMTTYPE=image/jpeg:https://liveinlosbarriles.com/wp-content/uploads/2022/12/Gatos-Pardos-La-PLaya.jpeg
END:VEVENT
BEGIN:VEVENT
DTSTART;TZID=America/Chicago:20230504T183000
DTEND;TZID=America/Chicago:20230504T210000
DTSTAMP:20260425T103627
CREATED:20221215T210059Z
LAST-MODIFIED:20221215T210059Z
UID:2931-1683225000-1683234000@liveinlosbarriles.com
SUMMARY:Local Musicians Jam!
DESCRIPTION:Come support your talented friends & neighbors! Music starts at 6:30pm.
URL:https://liveinlosbarriles.com/event/local-musicians-jam-2023-05-04/
LOCATION:Sweetpea’s Tiki Bar & Grill
CATEGORIES:Live Music
ATTACH;FMTTYPE=image/jpeg:https://liveinlosbarriles.com/wp-content/uploads/2018/05/image-2-copyright.jpg
END:VEVENT
BEGIN:VEVENT
DTSTART;TZID=America/Chicago:20230504T180000
DTEND;TZID=America/Chicago:20230504T210000
DTSTAMP:20260425T103627
CREATED:20230121T190041Z
LAST-MODIFIED:20230121T190041Z
UID:3225-1683223200-1683234000@liveinlosbarriles.com
SUMMARY:Thursday of music and memories
DESCRIPTION:Come and enjoy a wide variety of music and songs from diferents times. Alvert and Chello bring you memories of many Decades with with authentic Italian food.
URL:https://liveinlosbarriles.com/event/thursday-of-music-and-memories-2023-05-04/
LOCATION:Pizzas Don Roberto\, Carretera Transpeninsular en frente a la fuente los Barriles\, Los Barriles\, BCS\, 23300\, Mexico
ATTACH;FMTTYPE=image/jpeg:https://liveinlosbarriles.com/wp-content/uploads/2023/01/59469EBF-A23C-4976-AABC-2B94F32675D1.jpeg
END:VEVENT
BEGIN:VEVENT
DTSTART;TZID=America/Chicago:20230502T170000
DTEND;TZID=America/Chicago:20230502T210000
DTSTAMP:20260425T103627
CREATED:20221215T212006Z
LAST-MODIFIED:20221215T212006Z
UID:2973-1683046800-1683061200@liveinlosbarriles.com
SUMMARY:Taco Tuesday!
DESCRIPTION:It’s Taco Tuesday tonight 5pm-9pm at SweetPea’s! \nGrilled fresh yellowtail\, shrimp\, chicken or USDA steak with our special sriracha sauce! \nHappy hour 4pm-6pm 2×1 drink specials!!
URL:https://liveinlosbarriles.com/event/taco-tuesday-2023-05-02/
LOCATION:Sweetpea’s Tiki Bar & Grill
CATEGORIES:Dining,Drink Special
ATTACH;FMTTYPE=image/jpeg:https://liveinlosbarriles.com/wp-content/uploads/2022/12/Tacos.jpeg
END:VEVENT
BEGIN:VEVENT
DTSTART;TZID=America/Chicago:20230430T190000
DTEND;TZID=America/Chicago:20230430T210000
DTSTAMP:20260425T103627
CREATED:20221215T212559Z
LAST-MODIFIED:20221215T212559Z
UID:3007-1682881200-1682888400@liveinlosbarriles.com
SUMMARY:Name that Tune!
DESCRIPTION:Saturday Night Name That Tune! \nThe fun starts at 7pm with your host Tiki Joe! \nMake a reservation by email: sweetpeastikibar@gmail.com
URL:https://liveinlosbarriles.com/event/name-that-tune-2023-04-30/
LOCATION:Sweetpea’s Tiki Bar & Grill
CATEGORIES:Community Event
ATTACH;FMTTYPE=image/jpeg:https://liveinlosbarriles.com/wp-content/uploads/2022/12/Name-That-Tune.jpeg
END:VEVENT
BEGIN:VEVENT
DTSTART;TZID=America/Chicago:20230429T090000
DTEND;TZID=America/Chicago:20230429T140000
DTSTAMP:20260425T103627
CREATED:20221215T235858Z
LAST-MODIFIED:20221215T235858Z
UID:3081-1682758800-1682776800@liveinlosbarriles.com
SUMMARY:Farmer's Market @ Laguna Park
DESCRIPTION:Great selection of local foods\, produce\, drinks\, clothing\, jewelry and much more! \nCome support your community!
URL:https://liveinlosbarriles.com/event/farmers-market-laguna-park-2023-04-29/
LOCATION:Farmer’s Market
CATEGORIES:Community Event,Dining,Live Music,Shopping/Sale
ATTACH;FMTTYPE=image/jpeg:https://liveinlosbarriles.com/wp-content/uploads/2022/12/Farmers-Market.jpeg
END:VEVENT
BEGIN:VEVENT
DTSTART;TZID=America/Chicago:20230428T180000
DTEND;TZID=America/Chicago:20230428T210000
DTSTAMP:20260425T103627
CREATED:20221215T214523Z
LAST-MODIFIED:20221215T214523Z
UID:3046-1682704800-1682715600@liveinlosbarriles.com
SUMMARY:Live Music with Gatos Pardos
DESCRIPTION:Let’s Rock Every Friday! \nMusic from Led Zeppelin\, The Beatles\, CCR\, Deep Purple\, The Doors\, ZZ Top\, AC/DC and more!
URL:https://liveinlosbarriles.com/event/live-music-with-gatos-pardos-2023-04-28/
LOCATION:La Playa Restaurant & Bar
CATEGORIES:Live Music
ATTACH;FMTTYPE=image/jpeg:https://liveinlosbarriles.com/wp-content/uploads/2022/12/Gatos-Pardos-La-PLaya.jpeg
END:VEVENT
BEGIN:VEVENT
DTSTART;TZID=America/Chicago:20230427T183000
DTEND;TZID=America/Chicago:20230427T210000
DTSTAMP:20260425T103627
CREATED:20221215T210059Z
LAST-MODIFIED:20221215T210059Z
UID:2930-1682620200-1682629200@liveinlosbarriles.com
SUMMARY:Local Musicians Jam!
DESCRIPTION:Come support your talented friends & neighbors! Music starts at 6:30pm.
URL:https://liveinlosbarriles.com/event/local-musicians-jam-2023-04-27/
LOCATION:Sweetpea’s Tiki Bar & Grill
CATEGORIES:Live Music
ATTACH;FMTTYPE=image/jpeg:https://liveinlosbarriles.com/wp-content/uploads/2018/05/image-2-copyright.jpg
END:VEVENT
BEGIN:VEVENT
DTSTART;TZID=America/Chicago:20230427T180000
DTEND;TZID=America/Chicago:20230427T210000
DTSTAMP:20260425T103627
CREATED:20230121T190040Z
LAST-MODIFIED:20230121T190040Z
UID:3224-1682618400-1682629200@liveinlosbarriles.com
SUMMARY:Thursday of music and memories
DESCRIPTION:Come and enjoy a wide variety of music and songs from diferents times. Alvert and Chello bring you memories of many Decades with with authentic Italian food.
URL:https://liveinlosbarriles.com/event/thursday-of-music-and-memories-2023-04-27/
LOCATION:Pizzas Don Roberto\, Carretera Transpeninsular en frente a la fuente los Barriles\, Los Barriles\, BCS\, 23300\, Mexico
ATTACH;FMTTYPE=image/jpeg:https://liveinlosbarriles.com/wp-content/uploads/2023/01/59469EBF-A23C-4976-AABC-2B94F32675D1.jpeg
END:VEVENT
BEGIN:VEVENT
DTSTART;TZID=America/Chicago:20230425T170000
DTEND;TZID=America/Chicago:20230425T210000
DTSTAMP:20260425T103627
CREATED:20221215T212006Z
LAST-MODIFIED:20221215T212006Z
UID:2972-1682442000-1682456400@liveinlosbarriles.com
SUMMARY:Taco Tuesday!
DESCRIPTION:It’s Taco Tuesday tonight 5pm-9pm at SweetPea’s! \nGrilled fresh yellowtail\, shrimp\, chicken or USDA steak with our special sriracha sauce! \nHappy hour 4pm-6pm 2×1 drink specials!!
URL:https://liveinlosbarriles.com/event/taco-tuesday-2023-04-25/
LOCATION:Sweetpea’s Tiki Bar & Grill
CATEGORIES:Dining,Drink Special
ATTACH;FMTTYPE=image/jpeg:https://liveinlosbarriles.com/wp-content/uploads/2022/12/Tacos.jpeg
END:VEVENT
BEGIN:VEVENT
DTSTART;TZID=America/Chicago:20230423T190000
DTEND;TZID=America/Chicago:20230423T210000
DTSTAMP:20260425T103627
CREATED:20221215T212559Z
LAST-MODIFIED:20221215T212559Z
UID:3006-1682276400-1682283600@liveinlosbarriles.com
SUMMARY:Name that Tune!
DESCRIPTION:Saturday Night Name That Tune! \nThe fun starts at 7pm with your host Tiki Joe! \nMake a reservation by email: sweetpeastikibar@gmail.com
URL:https://liveinlosbarriles.com/event/name-that-tune-2023-04-23/
LOCATION:Sweetpea’s Tiki Bar & Grill
CATEGORIES:Community Event
ATTACH;FMTTYPE=image/jpeg:https://liveinlosbarriles.com/wp-content/uploads/2022/12/Name-That-Tune.jpeg
END:VEVENT
BEGIN:VEVENT
DTSTART;TZID=America/Chicago:20230422T090000
DTEND;TZID=America/Chicago:20230422T140000
DTSTAMP:20260425T103627
CREATED:20221215T235858Z
LAST-MODIFIED:20221215T235858Z
UID:3080-1682154000-1682172000@liveinlosbarriles.com
SUMMARY:Farmer's Market @ Laguna Park
DESCRIPTION:Great selection of local foods\, produce\, drinks\, clothing\, jewelry and much more! \nCome support your community!
URL:https://liveinlosbarriles.com/event/farmers-market-laguna-park-2023-04-22/
LOCATION:Farmer’s Market
CATEGORIES:Community Event,Dining,Live Music,Shopping/Sale
ATTACH;FMTTYPE=image/jpeg:https://liveinlosbarriles.com/wp-content/uploads/2022/12/Farmers-Market.jpeg
END:VEVENT
BEGIN:VEVENT
DTSTART;TZID=America/Chicago:20230421T180000
DTEND;TZID=America/Chicago:20230421T210000
DTSTAMP:20260425T103627
CREATED:20221215T214523Z
LAST-MODIFIED:20221215T214523Z
UID:3045-1682100000-1682110800@liveinlosbarriles.com
SUMMARY:Live Music with Gatos Pardos
DESCRIPTION:Let’s Rock Every Friday! \nMusic from Led Zeppelin\, The Beatles\, CCR\, Deep Purple\, The Doors\, ZZ Top\, AC/DC and more!
URL:https://liveinlosbarriles.com/event/live-music-with-gatos-pardos-2023-04-21/
LOCATION:La Playa Restaurant & Bar
CATEGORIES:Live Music
ATTACH;FMTTYPE=image/jpeg:https://liveinlosbarriles.com/wp-content/uploads/2022/12/Gatos-Pardos-La-PLaya.jpeg
END:VEVENT
BEGIN:VEVENT
DTSTART;TZID=America/Chicago:20230420T183000
DTEND;TZID=America/Chicago:20230420T210000
DTSTAMP:20260425T103627
CREATED:20221215T210059Z
LAST-MODIFIED:20221215T210059Z
UID:2929-1682015400-1682024400@liveinlosbarriles.com
SUMMARY:Local Musicians Jam!
DESCRIPTION:Come support your talented friends & neighbors! Music starts at 6:30pm.
URL:https://liveinlosbarriles.com/event/local-musicians-jam-2023-04-20/
LOCATION:Sweetpea’s Tiki Bar & Grill
CATEGORIES:Live Music
ATTACH;FMTTYPE=image/jpeg:https://liveinlosbarriles.com/wp-content/uploads/2018/05/image-2-copyright.jpg
END:VEVENT
BEGIN:VEVENT
DTSTART;TZID=America/Chicago:20230420T180000
DTEND;TZID=America/Chicago:20230420T210000
DTSTAMP:20260425T103627
CREATED:20230121T190040Z
LAST-MODIFIED:20230121T190040Z
UID:3223-1682013600-1682024400@liveinlosbarriles.com
SUMMARY:Thursday of music and memories
DESCRIPTION:Come and enjoy a wide variety of music and songs from diferents times. Alvert and Chello bring you memories of many Decades with with authentic Italian food.
URL:https://liveinlosbarriles.com/event/thursday-of-music-and-memories-2023-04-20/
LOCATION:Pizzas Don Roberto\, Carretera Transpeninsular en frente a la fuente los Barriles\, Los Barriles\, BCS\, 23300\, Mexico
ATTACH;FMTTYPE=image/jpeg:https://liveinlosbarriles.com/wp-content/uploads/2023/01/59469EBF-A23C-4976-AABC-2B94F32675D1.jpeg
END:VEVENT
BEGIN:VEVENT
DTSTART;TZID=America/Chicago:20230418T170000
DTEND;TZID=America/Chicago:20230418T210000
DTSTAMP:20260425T103627
CREATED:20221215T212006Z
LAST-MODIFIED:20221215T212006Z
UID:2971-1681837200-1681851600@liveinlosbarriles.com
SUMMARY:Taco Tuesday!
DESCRIPTION:It’s Taco Tuesday tonight 5pm-9pm at SweetPea’s! \nGrilled fresh yellowtail\, shrimp\, chicken or USDA steak with our special sriracha sauce! \nHappy hour 4pm-6pm 2×1 drink specials!!
URL:https://liveinlosbarriles.com/event/taco-tuesday-2023-04-18/
LOCATION:Sweetpea’s Tiki Bar & Grill
CATEGORIES:Dining,Drink Special
ATTACH;FMTTYPE=image/jpeg:https://liveinlosbarriles.com/wp-content/uploads/2022/12/Tacos.jpeg
END:VEVENT
BEGIN:VEVENT
DTSTART;TZID=America/Chicago:20230416T190000
DTEND;TZID=America/Chicago:20230416T210000
DTSTAMP:20260425T103627
CREATED:20221215T212559Z
LAST-MODIFIED:20221215T212559Z
UID:3005-1681671600-1681678800@liveinlosbarriles.com
SUMMARY:Name that Tune!
DESCRIPTION:Saturday Night Name That Tune! \nThe fun starts at 7pm with your host Tiki Joe! \nMake a reservation by email: sweetpeastikibar@gmail.com
URL:https://liveinlosbarriles.com/event/name-that-tune-2023-04-16/
LOCATION:Sweetpea’s Tiki Bar & Grill
CATEGORIES:Community Event
ATTACH;FMTTYPE=image/jpeg:https://liveinlosbarriles.com/wp-content/uploads/2022/12/Name-That-Tune.jpeg
END:VEVENT
BEGIN:VEVENT
DTSTART;TZID=America/Chicago:20230415T090000
DTEND;TZID=America/Chicago:20230415T140000
DTSTAMP:20260425T103627
CREATED:20221215T235858Z
LAST-MODIFIED:20221215T235858Z
UID:3079-1681549200-1681567200@liveinlosbarriles.com
SUMMARY:Farmer's Market @ Laguna Park
DESCRIPTION:Great selection of local foods\, produce\, drinks\, clothing\, jewelry and much more! \nCome support your community!
URL:https://liveinlosbarriles.com/event/farmers-market-laguna-park-2023-04-15/
LOCATION:Farmer’s Market
CATEGORIES:Community Event,Dining,Live Music,Shopping/Sale
ATTACH;FMTTYPE=image/jpeg:https://liveinlosbarriles.com/wp-content/uploads/2022/12/Farmers-Market.jpeg
END:VEVENT
BEGIN:VEVENT
DTSTART;TZID=America/Chicago:20230414T180000
DTEND;TZID=America/Chicago:20230414T210000
DTSTAMP:20260425T103627
CREATED:20221215T214523Z
LAST-MODIFIED:20221215T214523Z
UID:3044-1681495200-1681506000@liveinlosbarriles.com
SUMMARY:Live Music with Gatos Pardos
DESCRIPTION:Let’s Rock Every Friday! \nMusic from Led Zeppelin\, The Beatles\, CCR\, Deep Purple\, The Doors\, ZZ Top\, AC/DC and more!
URL:https://liveinlosbarriles.com/event/live-music-with-gatos-pardos-2023-04-14/
LOCATION:La Playa Restaurant & Bar
CATEGORIES:Live Music
ATTACH;FMTTYPE=image/jpeg:https://liveinlosbarriles.com/wp-content/uploads/2022/12/Gatos-Pardos-La-PLaya.jpeg
END:VEVENT
BEGIN:VEVENT
DTSTART;TZID=America/Chicago:20230413T183000
DTEND;TZID=America/Chicago:20230413T210000
DTSTAMP:20260425T103627
CREATED:20221215T210059Z
LAST-MODIFIED:20221215T210059Z
UID:2928-1681410600-1681419600@liveinlosbarriles.com
SUMMARY:Local Musicians Jam!
DESCRIPTION:Come support your talented friends & neighbors! Music starts at 6:30pm.
URL:https://liveinlosbarriles.com/event/local-musicians-jam-2023-04-13/
LOCATION:Sweetpea’s Tiki Bar & Grill
CATEGORIES:Live Music
ATTACH;FMTTYPE=image/jpeg:https://liveinlosbarriles.com/wp-content/uploads/2018/05/image-2-copyright.jpg
END:VEVENT
END:VCALENDAR